BEGIN:VCALENDAR
VERSION:2.0
PRODID:-//Philadelphia United Methodist Church - ECPv6.15.17.1//NONSGML v1.0//EN
CALSCALE:GREGORIAN
METHOD:PUBLISH
X-WR-CALNAME:Philadelphia United Methodist Church
X-ORIGINAL-URL:https://pumcfortmill.org
X-WR-CALDESC:Events for Philadelphia United Methodist Church
REFRESH-INTERVAL;VALUE=DURATION:PT1H
X-Robots-Tag:noindex
X-PUBLISHED-TTL:PT1H
BEGIN:VTIMEZONE
TZID:America/New_York
BEGIN:DAYLIGHT
TZOFFSETFROM:-0500
TZOFFSETTO:-0400
TZNAME:EDT
DTSTART:20230312T070000
END:DAYLIGHT
BEGIN:STANDARD
TZOFFSETFROM:-0400
TZOFFSETTO:-0500
TZNAME:EST
DTSTART:20231105T060000
END:STANDARD
BEGIN:DAYLIGHT
TZOFFSETFROM:-0500
TZOFFSETTO:-0400
TZNAME:EDT
DTSTART:20240310T070000
END:DAYLIGHT
BEGIN:STANDARD
TZOFFSETFROM:-0400
TZOFFSETTO:-0500
TZNAME:EST
DTSTART:20241103T060000
END:STANDARD
BEGIN:DAYLIGHT
TZOFFSETFROM:-0500
TZOFFSETTO:-0400
TZNAME:EDT
DTSTART:20250309T070000
END:DAYLIGHT
BEGIN:STANDARD
TZOFFSETFROM:-0400
TZOFFSETTO:-0500
TZNAME:EST
DTSTART:20251102T060000
END:STANDARD
END:VTIMEZONE
BEGIN:VEVENT
DTSTART;TZID=America/New_York:20241210T113000
DTEND;TZID=America/New_York:20241210T123000
DTSTAMP:20260422T093432
CREATED:20240724T151939Z
LAST-MODIFIED:20240724T151950Z
UID:53861-1733830200-1733833800@pumcfortmill.org
SUMMARY:Senior Friends - Christmas Party
DESCRIPTION:Our Christmas Party and regular meeting. Additional information to come.
URL:https://pumcfortmill.org/event/senior-friends-christmas-party/
CATEGORIES:Event,Meetings
END:VEVENT
BEGIN:VEVENT
DTSTART;TZID=America/New_York:20241214T140000
DTEND;TZID=America/New_York:20241214T150000
DTSTAMP:20260422T093432
CREATED:20241028T175047Z
LAST-MODIFIED:20241028T175048Z
UID:63650-1734184800-1734188400@pumcfortmill.org
SUMMARY:Children's Christmas Craft
DESCRIPTION:Join us Saturday\, December 14th from 2:00-3:00pm for a holy-day craft\, story\, & snack as we celebrate and learn about the birth of Jesus. RSVP with nicolas@pumcfortmill.org
URL:https://pumcfortmill.org/event/childrens-christmas-craft-2/
ATTACH;FMTTYPE=image/png:https://pumcfortmill.org/wp-content/uploads/2024/10/Christmas-Craft-2.png
END:VEVENT
BEGIN:VEVENT
DTSTART;TZID=America/New_York:20241224T160000
DTEND;TZID=America/New_York:20241224T170000
DTSTAMP:20260422T093432
CREATED:20241205T171817Z
LAST-MODIFIED:20241205T171818Z
UID:67435-1735056000-1735059600@pumcfortmill.org
SUMMARY:Children's Christmas Eve Service
DESCRIPTION:
URL:https://pumcfortmill.org/event/childrens-christmas-eve-service-2/
END:VEVENT
BEGIN:VEVENT
DTSTART;TZID=America/New_York:20241224T180000
DTEND;TZID=America/New_York:20241224T190000
DTSTAMP:20260422T093432
CREATED:20241205T174052Z
LAST-MODIFIED:20241205T174119Z
UID:67438-1735063200-1735066800@pumcfortmill.org
SUMMARY:Christmas Eve Service
DESCRIPTION:A Candlelight & Communion Service.
URL:https://pumcfortmill.org/event/christmas-eve-service-2/
END:VEVENT
END:VCALENDAR