BEGIN:VCALENDAR
VERSION:2.0
PRODID:-//Philadelphia United Methodist Church - ECPv6.15.17.1//NONSGML v1.0//EN
CALSCALE:GREGORIAN
METHOD:PUBLISH
X-ORIGINAL-URL:https://pumcfortmill.org
X-WR-CALDESC:Events for Philadelphia United Methodist Church
REFRESH-INTERVAL;VALUE=DURATION:PT1H
X-Robots-Tag:noindex
X-PUBLISHED-TTL:PT1H
BEGIN:VTIMEZONE
TZID:America/New_York
BEGIN:DAYLIGHT
TZOFFSETFROM:-0500
TZOFFSETTO:-0400
TZNAME:EDT
DTSTART:20230312T070000
END:DAYLIGHT
BEGIN:STANDARD
TZOFFSETFROM:-0400
TZOFFSETTO:-0500
TZNAME:EST
DTSTART:20231105T060000
END:STANDARD
BEGIN:DAYLIGHT
TZOFFSETFROM:-0500
TZOFFSETTO:-0400
TZNAME:EDT
DTSTART:20240310T070000
END:DAYLIGHT
BEGIN:STANDARD
TZOFFSETFROM:-0400
TZOFFSETTO:-0500
TZNAME:EST
DTSTART:20241103T060000
END:STANDARD
BEGIN:DAYLIGHT
TZOFFSETFROM:-0500
TZOFFSETTO:-0400
TZNAME:EDT
DTSTART:20250309T070000
END:DAYLIGHT
BEGIN:STANDARD
TZOFFSETFROM:-0400
TZOFFSETTO:-0500
TZNAME:EST
DTSTART:20251102T060000
END:STANDARD
END:VTIMEZONE
BEGIN:VEVENT
DTSTART;TZID=America/New_York:20241001T181500
DTEND;TZID=America/New_York:20241001T190000
DTSTAMP:20260423T133521
CREATED:20240806T152447Z
LAST-MODIFIED:20240826T204526Z
UID:55243-1727806500-1727809200@pumcfortmill.org
SUMMARY:Ephesians Bible Study - Tuesday
DESCRIPTION:The book of Ephesians is the universal letter of Paul. It is his standard speech about the gospel story and how we should live out our story because of the gospel. We will offer TWO separate\, six-week classes on the book of Ephesians\, using the N.T. Wright For Everyone Bible Study Guide on Ephesians. You can purchase the guide from the church for $8 or find your copy online. One Bible Study starts Tuesday\, September 10th from 6:15-7:00pm and the other starts Wednesday\, September 11th from 6:15-7:00pm. Contact Nicolas@pumcfortmill.org to participate.
URL:https://pumcfortmill.org/event/ephesians-bible-study-tuesday-4/
CATEGORIES:Bible Study,Life Group
ATTACH;FMTTYPE=image/png:https://pumcfortmill.org/wp-content/uploads/2024/08/Add-your-text.png
END:VEVENT
BEGIN:VEVENT
DTSTART;TZID=America/New_York:20241002T181500
DTEND;TZID=America/New_York:20241002T190000
DTSTAMP:20260423T133521
CREATED:20240806T151119Z
LAST-MODIFIED:20240826T203043Z
UID:55227-1727892900-1727895600@pumcfortmill.org
SUMMARY:The Voyage of the Dawn Treader Bible Study
DESCRIPTION:A new six-week Bible study for kids based on Narnia book by C.S. Lewis. We will head out on the high seas of Narnia from the Lone Islands to the World’s End\, learning about seeing the truth of God’s Word. Ages 3 thru 5th Grade. Nursery also provided. Stars Wednesday\, September 11th from 6:15-7:00pm. Contact Nicolas@pumcfortmill.org to participate. \n\n\n\nA meal will be served every from 5:00-7:00pm for the whole family. Donations appreciated.
URL:https://pumcfortmill.org/event/the-voyage-of-the-dawn-treader-bible-study-4/
CATEGORIES:Children's Event,Event
ATTACH;FMTTYPE=image/png:https://pumcfortmill.org/wp-content/uploads/2024/08/Add-a-heading.png
END:VEVENT
BEGIN:VEVENT
DTSTART;TZID=America/New_York:20241002T181500
DTEND;TZID=America/New_York:20241002T190000
DTSTAMP:20260423T133521
CREATED:20240806T153756Z
LAST-MODIFIED:20240826T204600Z
UID:55257-1727892900-1727895600@pumcfortmill.org
SUMMARY:Ephesians Bible Study - Wednesday
DESCRIPTION:The book of Ephesians is the universal letter of Paul. It is his standard speech about the gospel story and how we should live out our story because of the gospel. We will offer TWO separate\, six-week classes on the book of Ephesians\, using the N.T. Wright For Everyone Bible Study Guide on Ephesians. You can purchase the guide from the church for $8 or find your copy online. One Bible Study starts Tuesday\, September 10th from 6:15-7:00pm and the other starts Wednesday\, September 11th from 6:15-7:00pm. Contact Nicolas@pumcfortmill.org to participate.
URL:https://pumcfortmill.org/event/ephesians-bible-study-wednesday-4/
CATEGORIES:Bible Study,Life Group
ATTACH;FMTTYPE=image/png:https://pumcfortmill.org/wp-content/uploads/2024/08/Add-your-text.png
END:VEVENT
BEGIN:VEVENT
DTSTART;TZID=America/New_York:20241002T181500
DTEND;TZID=America/New_York:20241002T191500
DTSTAMP:20260423T133521
CREATED:20240816T175041Z
LAST-MODIFIED:20240826T204934Z
UID:56322-1727892900-1727896500@pumcfortmill.org
SUMMARY:Mission Wednesday
DESCRIPTION:Youth will be preparing freezer meals for Defend the Fatherless.
URL:https://pumcfortmill.org/event/mission-wednesday-7/
CATEGORIES:Event,Missions,Service,Youth
END:VEVENT
BEGIN:VEVENT
DTSTART;TZID=America/New_York:20241008T080000
DTEND;TZID=America/New_York:20241008T170000
DTSTAMP:20260423T133521
CREATED:20240724T151519Z
LAST-MODIFIED:20240724T151520Z
UID:53856-1728374400-1728406800@pumcfortmill.org
SUMMARY:Senior Friends - Apple Trip
DESCRIPTION:Our trip to get apples. Additional information and specific times to come.
URL:https://pumcfortmill.org/event/senior-friends-apple-trip/
CATEGORIES:Event
END:VEVENT
BEGIN:VEVENT
DTSTART;TZID=America/New_York:20241008T181500
DTEND;TZID=America/New_York:20241008T190000
DTSTAMP:20260423T133521
CREATED:20240806T152558Z
LAST-MODIFIED:20240826T204644Z
UID:55245-1728411300-1728414000@pumcfortmill.org
SUMMARY:Ephesians Bible Study - Tuesday
DESCRIPTION:The book of Ephesians is the universal letter of Paul. It is his standard speech about the gospel story and how we should live out our story because of the gospel. We will offer TWO separate\, six-week classes on the book of Ephesians\, using the N.T. Wright For Everyone Bible Study Guide on Ephesians. You can purchase the guide from the church for $8 or find your copy online. One Bible Study starts Tuesday\, September 10th from 6:15-7:00pm and the other starts Wednesday\, September 11th from 6:15-7:00pm. Contact Nicolas@pumcfortmill.org to participate.
URL:https://pumcfortmill.org/event/ephesians-bible-study-tuesday-5/
CATEGORIES:Bible Study,Life Group
ATTACH;FMTTYPE=image/png:https://pumcfortmill.org/wp-content/uploads/2024/08/Add-your-text.png
END:VEVENT
BEGIN:VEVENT
DTSTART;TZID=America/New_York:20241009T181500
DTEND;TZID=America/New_York:20241009T190000
DTSTAMP:20260423T133521
CREATED:20240806T151208Z
LAST-MODIFIED:20240826T203148Z
UID:55229-1728497700-1728500400@pumcfortmill.org
SUMMARY:The Voyage of the Dawn Treader Bible Study
DESCRIPTION:A new six-week Bible study for kids based on Narnia book by C.S. Lewis. We will head out on the high seas of Narnia from the Lone Islands to the World’s End\, learning about seeing the truth of God’s Word. Ages 3 thru 5th Grade. Nursery also provided. Stars Wednesday\, September 11th from 6:15-7:00pm. Contact Nicolas@pumcfortmill.org to participate. \n\n\n\nA meal will be served every from 5:00-7:00pm for the whole family. Donations appreciated.
URL:https://pumcfortmill.org/event/the-voyage-of-the-dawn-treader-bible-study-5/
CATEGORIES:Children's Event,Event
ATTACH;FMTTYPE=image/png:https://pumcfortmill.org/wp-content/uploads/2024/08/Add-a-heading.png
END:VEVENT
BEGIN:VEVENT
DTSTART;TZID=America/New_York:20241009T181500
DTEND;TZID=America/New_York:20241009T190000
DTSTAMP:20260423T133521
CREATED:20240806T153905Z
LAST-MODIFIED:20240826T204711Z
UID:55259-1728497700-1728500400@pumcfortmill.org
SUMMARY:Ephesians Bible Study - Wednesday
DESCRIPTION:The book of Ephesians is the universal letter of Paul. It is his standard speech about the gospel story and how we should live out our story because of the gospel. We will offer TWO separate\, six-week classes on the book of Ephesians\, using the N.T. Wright For Everyone Bible Study Guide on Ephesians. You can purchase the guide from the church for $8 or find your copy online. One Bible Study starts Tuesday\, September 10th from 6:15-7:00pm and the other starts Wednesday\, September 11th from 6:15-7:00pm. Contact Nicolas@pumcfortmill.org to participate.
URL:https://pumcfortmill.org/event/ephesians-bible-study-wednesday-5/
CATEGORIES:Bible Study,Life Group
ATTACH;FMTTYPE=image/png:https://pumcfortmill.org/wp-content/uploads/2024/08/Add-your-text.png
END:VEVENT
BEGIN:VEVENT
DTSTART;TZID=America/New_York:20241009T181500
DTEND;TZID=America/New_York:20241009T191500
DTSTAMP:20260423T133521
CREATED:20240816T175341Z
LAST-MODIFIED:20240826T204902Z
UID:56324-1728497700-1728501300@pumcfortmill.org
SUMMARY:Mission Wednesday
DESCRIPTION:Youth will be creating crafts and putting together items for Operation Christmas Child shoeboxes.
URL:https://pumcfortmill.org/event/mission-wednesday-8/
CATEGORIES:Event,Missions,Service,Youth
END:VEVENT
BEGIN:VEVENT
DTSTART;TZID=America/New_York:20241010T042500
DTEND;TZID=America/New_York:20241010T073000
DTSTAMP:20260423T133521
CREATED:20240930T192212Z
LAST-MODIFIED:20240930T192214Z
UID:60851-1728534300-1728545400@pumcfortmill.org
SUMMARY:Bethel Men's Shelter Meal
DESCRIPTION:Thursday\, October the 10th\, is another opportunity to serve a meal at Bethel Men’s Shelter. We are expecting around 65 men who will be hungry for a home cooked meal of pintos\, vegetable soup\, salad\, cornbread and brownies. Join us by preparing food\, purchasing needed items\, helping serve the meal or working in the kitchen behind the scenes. We are also collecting breakfast bars (the soft kind like Nutra-Grain)\, fruit cups\, bottled water\, used small devotionals and restuarant utensil packages for breakfast bags. Please follow the link to sign up! \n\n\n\nLink: https://www.signupgenius.com/go/70A084AAAA62FA20-51825237-bethel
URL:https://pumcfortmill.org/event/bethel-mens-shelter-meal/
ATTACH;FMTTYPE=image/png:https://pumcfortmill.org/wp-content/uploads/2024/09/Bethel-Mens-Night-1.png
END:VEVENT
BEGIN:VEVENT
DTSTART;TZID=America/New_York:20241012T100000
DTEND;TZID=America/New_York:20241012T180000
DTSTAMP:20260423T133521
CREATED:20240723T225505Z
LAST-MODIFIED:20240723T225923Z
UID:53777-1728727200-1728756000@pumcfortmill.org
SUMMARY:Catawba Fest
DESCRIPTION:Join us as we share the light of Christ in our community at the Annual Tega Cay Catawba Fest. We will have a table in the children’s area with church info and a fun game with prizes for the kids. \n\n\n\nPlease use the links below to sign up to help at the booth for 1.5 hrs.https://www.signupgenius.com/go/20F0D44ADAD2EABF58-50314277-pumc#/
URL:https://pumcfortmill.org/event/catawba-fest/
CATEGORIES:Children's Event,Evangelism,Event,Missions
ATTACH;FMTTYPE=image/jpeg:https://pumcfortmill.org/wp-content/uploads/2024/07/Tega-Cay-Fest.jpg
END:VEVENT
BEGIN:VEVENT
DTSTART;TZID=America/New_York:20241015T181500
DTEND;TZID=America/New_York:20241015T190000
DTSTAMP:20260423T133521
CREATED:20240806T152647Z
LAST-MODIFIED:20240826T204751Z
UID:55247-1729016100-1729018800@pumcfortmill.org
SUMMARY:Ephesians Bible Study - Tuesday
DESCRIPTION:The book of Ephesians is the universal letter of Paul. It is his standard speech about the gospel story and how we should live out our story because of the gospel. We will offer TWO separate\, six-week classes on the book of Ephesians\, using the N.T. Wright For Everyone Bible Study Guide on Ephesians. You can purchase the guide from the church for $8 or find your copy online. One Bible Study starts Tuesday\, September 10th from 6:15-7:00pm and the other starts Wednesday\, September 11th from 6:15-7:00pm. Contact Nicolas@pumcfortmill.org to participate.
URL:https://pumcfortmill.org/event/ephesians-bible-study-tuesday-6/
CATEGORIES:Bible Study,Life Group
ATTACH;FMTTYPE=image/png:https://pumcfortmill.org/wp-content/uploads/2024/08/Add-your-text.png
END:VEVENT
BEGIN:VEVENT
DTSTART;TZID=America/New_York:20241016T181500
DTEND;TZID=America/New_York:20241016T190000
DTSTAMP:20260423T133521
CREATED:20240806T151300Z
LAST-MODIFIED:20240826T203441Z
UID:55231-1729102500-1729105200@pumcfortmill.org
SUMMARY:The Voyage of the Dawn Treader Bible Study
DESCRIPTION:A new six-week Bible study for kids based on Narnia book by C.S. Lewis. We will head out on the high seas of Narnia from the Lone Islands to the World’s End\, learning about seeing the truth of God’s Word. Ages 3 thru 5th Grade. Nursery also provided. Stars Wednesday\, September 11th from 6:15-7:00pm. Contact Nicolas@pumcfortmill.org to participate. \n\n\n\nA meal will be served every from 5:00-7:00pm for the whole family. Donations appreciated.
URL:https://pumcfortmill.org/event/the-voyage-of-the-dawn-treader-bible-study-6/
CATEGORIES:Children's Event,Event
ATTACH;FMTTYPE=image/png:https://pumcfortmill.org/wp-content/uploads/2024/08/Add-a-heading.png
END:VEVENT
BEGIN:VEVENT
DTSTART;TZID=America/New_York:20241016T181500
DTEND;TZID=America/New_York:20241016T190000
DTSTAMP:20260423T133521
CREATED:20240806T154007Z
LAST-MODIFIED:20240826T204826Z
UID:55261-1729102500-1729105200@pumcfortmill.org
SUMMARY:Ephesians Bible Study - Wednesday
DESCRIPTION:The book of Ephesians is the universal letter of Paul. It is his standard speech about the gospel story and how we should live out our story because of the gospel. We will offer TWO separate\, six-week classes on the book of Ephesians\, using the N.T. Wright For Everyone Bible Study Guide on Ephesians. You can purchase the guide from the church for $8 or find your copy online. One Bible Study starts Tuesday\, September 10th from 6:15-7:00pm and the other starts Wednesday\, September 11th from 6:15-7:00pm. Contact Nicolas@pumcfortmill.org to participate.
URL:https://pumcfortmill.org/event/ephesians-bible-study-wednesday-6/
CATEGORIES:Bible Study,Life Group
ATTACH;FMTTYPE=image/png:https://pumcfortmill.org/wp-content/uploads/2024/08/Add-your-text.png
END:VEVENT
BEGIN:VEVENT
DTSTART;TZID=America/New_York:20241027T170000
DTEND;TZID=America/New_York:20241027T183000
DTSTAMP:20260423T133521
CREATED:20240826T191611Z
LAST-MODIFIED:20240826T203705Z
UID:57352-1730048400-1730053800@pumcfortmill.org
SUMMARY:Trunk R Treat
DESCRIPTION:Children\, families\, and everyone else are invited to come to the church in their Halloween costume and receive candy from the different decorated trunks. Hot dogs and drinks are free. Special prizes for the best decorated cars.  Also\, we need decorated trunks and donated candy. If you can help with either\, contact Nicolas Gold at nicolas@pumcfortmill.org
URL:https://pumcfortmill.org/event/trunk-r-treat-2/
CATEGORIES:Children's Event,Event
ATTACH;FMTTYPE=image/png:https://pumcfortmill.org/wp-content/uploads/2024/08/Untitled-design.png
END:VEVENT
END:VCALENDAR