BEGIN:VCALENDAR
VERSION:2.0
PRODID:-//Philadelphia United Methodist Church - ECPv6.15.17.1//NONSGML v1.0//EN
CALSCALE:GREGORIAN
METHOD:PUBLISH
X-WR-CALNAME:Philadelphia United Methodist Church
X-ORIGINAL-URL:https://pumcfortmill.org
X-WR-CALDESC:Events for Philadelphia United Methodist Church
REFRESH-INTERVAL;VALUE=DURATION:PT1H
X-Robots-Tag:noindex
X-PUBLISHED-TTL:PT1H
BEGIN:VTIMEZONE
TZID:America/New_York
BEGIN:DAYLIGHT
TZOFFSETFROM:-0500
TZOFFSETTO:-0400
TZNAME:EDT
DTSTART:20230312T070000
END:DAYLIGHT
BEGIN:STANDARD
TZOFFSETFROM:-0400
TZOFFSETTO:-0500
TZNAME:EST
DTSTART:20231105T060000
END:STANDARD
BEGIN:DAYLIGHT
TZOFFSETFROM:-0500
TZOFFSETTO:-0400
TZNAME:EDT
DTSTART:20240310T070000
END:DAYLIGHT
BEGIN:STANDARD
TZOFFSETFROM:-0400
TZOFFSETTO:-0500
TZNAME:EST
DTSTART:20241103T060000
END:STANDARD
BEGIN:DAYLIGHT
TZOFFSETFROM:-0500
TZOFFSETTO:-0400
TZNAME:EDT
DTSTART:20250309T070000
END:DAYLIGHT
BEGIN:STANDARD
TZOFFSETFROM:-0400
TZOFFSETTO:-0500
TZNAME:EST
DTSTART:20251102T060000
END:STANDARD
END:VTIMEZONE
BEGIN:VEVENT
DTSTART;TZID=America/New_York:20240910T113000
DTEND;TZID=America/New_York:20240910T123000
DTSTAMP:20260425T091744
CREATED:20240724T151333Z
LAST-MODIFIED:20240724T151334Z
UID:53853-1725967800-1725971400@pumcfortmill.org
SUMMARY:Senior Friends
DESCRIPTION:Our regular meeting in the Fellowship Hall. Please bring a covered dish.
URL:https://pumcfortmill.org/event/senior-friends-4/
CATEGORIES:Event,Meetings
END:VEVENT
BEGIN:VEVENT
DTSTART;TZID=America/New_York:20240910T181500
DTEND;TZID=America/New_York:20240910T190000
DTSTAMP:20260425T091744
CREATED:20240806T151843Z
LAST-MODIFIED:20240826T203843Z
UID:55234-1725992100-1725994800@pumcfortmill.org
SUMMARY:Ephesians Bible Study - Tuesday
DESCRIPTION:The book of Ephesians is the universal letter of Paul. It is his standard speech about the gospel story and how we should live out our story because of the gospel. We will offer TWO separate\, six-week classes on the book of Ephesians\, using the N.T. Wright For Everyone Bible Study Guide on Ephesians. You can purchase the guide from the church for $8 or find your copy online. One Bible Study starts Tuesday\, September 10th from 6:15-7:00pm and the other starts Wednesday\, September 11th from 6:15-7:00pm. Contact Nicolas@pumcfortmill.org to participate.
URL:https://pumcfortmill.org/event/ephesians-bible-study-tuesday/
CATEGORIES:Bible Study,Life Group
ATTACH;FMTTYPE=image/png:https://pumcfortmill.org/wp-content/uploads/2024/08/Add-your-text.png
END:VEVENT
BEGIN:VEVENT
DTSTART;TZID=America/New_York:20240911T181500
DTEND;TZID=America/New_York:20240911T190000
DTSTAMP:20260425T091744
CREATED:20240806T150736Z
LAST-MODIFIED:20240826T202836Z
UID:55220-1726078500-1726081200@pumcfortmill.org
SUMMARY:The Voyage of the Dawn Treader Bible Study
DESCRIPTION:A new six-week Bible study for kids based on Narnia book by C.S. Lewis. We will head out on the high seas of Narnia from the Lone Islands to the World’s End\, learning about seeing the truth of God’s Word. Ages 3 thru 5th Grade. Nursery also provided. Stars Wednesday\, September 11th from 6:15-7:00pm. Contact Nicolas@pumcfortmill.org to participate. \n\n\n\nA meal will be served every from 5:00-7:00pm for the whole family. Donations appreciated.
URL:https://pumcfortmill.org/event/the-voyage-of-the-dawn-treader-bible-study/
CATEGORIES:Children's Event,Event
ATTACH;FMTTYPE=image/png:https://pumcfortmill.org/wp-content/uploads/2024/08/Add-a-heading.png
END:VEVENT
BEGIN:VEVENT
DTSTART;TZID=America/New_York:20240911T181500
DTEND;TZID=America/New_York:20240911T190000
DTSTAMP:20260425T091744
CREATED:20240806T153028Z
LAST-MODIFIED:20240826T203916Z
UID:55251-1726078500-1726081200@pumcfortmill.org
SUMMARY:Ephesians Bible Study - Wednesday
DESCRIPTION:The book of Ephesians is the universal letter of Paul. It is his standard speech about the gospel story and how we should live out our story because of the gospel. We will offer TWO separate\, six-week classes on the book of Ephesians\, using the N.T. Wright For Everyone Bible Study Guide on Ephesians. You can purchase the guide from the church for $8 or find your copy online. One Bible Study starts Tuesday\, September 10th from 6:15-7:00pm and the other starts Wednesday\, September 11th from 6:15-7:00pm. Contact Nicolas@pumcfortmill.org to participate.
URL:https://pumcfortmill.org/event/ephesians-bible-study-wednesday/
CATEGORIES:Bible Study,Life Group
ATTACH;FMTTYPE=image/png:https://pumcfortmill.org/wp-content/uploads/2024/08/Add-your-text.png
END:VEVENT
BEGIN:VEVENT
DTSTART;TZID=America/New_York:20240915T000000
DTEND;TZID=America/New_York:20240915T120100
DTSTAMP:20260425T091744
CREATED:20240910T024500Z
LAST-MODIFIED:20240910T024502Z
UID:58783-1726358400-1726401660@pumcfortmill.org
SUMMARY:Homecoming
DESCRIPTION:One Service at 11am \n\n\n\nGuess Pastor\, Rev. Becky Shirley \n\n\n\nCovered dish luncheon after service.
URL:https://pumcfortmill.org/event/homecoming-2/
LOCATION:Philadelphia United Methodist Church\, 1691 Hwy. 160 W\, Fort Mill\, SC\, 29708\, United States
CATEGORIES:Evangelism,Event,Service,Worship
END:VEVENT
BEGIN:VEVENT
DTSTART;TZID=America/New_York:20240917T181500
DTEND;TZID=America/New_York:20240917T190000
DTSTAMP:20260425T091744
CREATED:20240806T152009Z
LAST-MODIFIED:20240826T203945Z
UID:55237-1726596900-1726599600@pumcfortmill.org
SUMMARY:Ephesians Bible Study - Tuesday
DESCRIPTION:The book of Ephesians is the universal letter of Paul. It is his standard speech about the gospel story and how we should live out our story because of the gospel. We will offer TWO separate\, six-week classes on the book of Ephesians\, using the N.T. Wright For Everyone Bible Study Guide on Ephesians. You can purchase the guide from the church for $8 or find your copy online. One Bible Study starts Tuesday\, September 10th from 6:15-7:00pm and the other starts Wednesday\, September 11th from 6:15-7:00pm. Contact Nicolas@pumcfortmill.org to participate.
URL:https://pumcfortmill.org/event/ephesians-bible-study-tuesday-2/
CATEGORIES:Bible Study,Life Group
ATTACH;FMTTYPE=image/png:https://pumcfortmill.org/wp-content/uploads/2024/08/Add-your-text.png
END:VEVENT
BEGIN:VEVENT
DTSTART;TZID=America/New_York:20240918T181500
DTEND;TZID=America/New_York:20240918T190000
DTSTAMP:20260425T091744
CREATED:20240806T150921Z
LAST-MODIFIED:20240826T202922Z
UID:55223-1726683300-1726686000@pumcfortmill.org
SUMMARY:The Voyage of the Dawn Treader Bible Study
DESCRIPTION:A new six-week Bible study for kids based on Narnia book by C.S. Lewis. We will head out on the high seas of Narnia from the Lone Islands to the World’s End\, learning about seeing the truth of God’s Word. Ages 3 thru 5th Grade. Nursery also provided. Stars Wednesday\, September 11th from 6:15-7:00pm. Contact Nicolas@pumcfortmill.org to participate. \n\n\n\nA meal will be served every from 5:00-7:00pm for the whole family. Donations appreciated.
URL:https://pumcfortmill.org/event/the-voyage-of-the-dawn-treader-bible-study-2/
CATEGORIES:Children's Event,Event
ATTACH;FMTTYPE=image/png:https://pumcfortmill.org/wp-content/uploads/2024/08/Add-a-heading.png
END:VEVENT
BEGIN:VEVENT
DTSTART;TZID=America/New_York:20240918T181500
DTEND;TZID=America/New_York:20240918T190000
DTSTAMP:20260425T091744
CREATED:20240806T153126Z
LAST-MODIFIED:20240826T204117Z
UID:55253-1726683300-1726686000@pumcfortmill.org
SUMMARY:Ephesians Bible Study - Wednesday
DESCRIPTION:The book of Ephesians is the universal letter of Paul. It is his standard speech about the gospel story and how we should live out our story because of the gospel. We will offer TWO separate\, six-week classes on the book of Ephesians\, using the N.T. Wright For Everyone Bible Study Guide on Ephesians. You can purchase the guide from the church for $8 or find your copy online. One Bible Study starts Tuesday\, September 10th from 6:15-7:00pm and the other starts Wednesday\, September 11th from 6:15-7:00pm. Contact Nicolas@pumcfortmill.org to participate.
URL:https://pumcfortmill.org/event/ephesians-bible-study-wednesday-2/
CATEGORIES:Bible Study,Life Group
ATTACH;FMTTYPE=image/png:https://pumcfortmill.org/wp-content/uploads/2024/08/Add-your-text.png
END:VEVENT
BEGIN:VEVENT
DTSTART;TZID=America/New_York:20240918T181500
DTEND;TZID=America/New_York:20240918T191500
DTSTAMP:20260425T091744
CREATED:20240816T174817Z
LAST-MODIFIED:20240826T205451Z
UID:56320-1726683300-1726686900@pumcfortmill.org
SUMMARY:Mission Wednesday
DESCRIPTION:Youth will be creating worship bags for our shut-ins
URL:https://pumcfortmill.org/event/mission-wednesday-6/
CATEGORIES:Event,Missions,Service,Youth
END:VEVENT
BEGIN:VEVENT
DTSTART;TZID=America/New_York:20240921T073000
DTEND;TZID=America/New_York:20240921T083000
DTSTAMP:20260425T091744
CREATED:20240910T025126Z
LAST-MODIFIED:20240910T025127Z
UID:58788-1726903800-1726907400@pumcfortmill.org
SUMMARY:Men In The Mirror
DESCRIPTION:As iron sharpens iron\, so one man sharpens another.” -Proverbs 27:17. All men are invited to join us every 3rd Saturday morning for biscuits\, coffee\, fellowship\, and biblical discussion.
URL:https://pumcfortmill.org/event/men-in-the-mirror/
LOCATION:PUMC Fellowship Hall\, 1691 Hwy. 160 W\, Fort Mill\, 29708\, United States
CATEGORIES:Bible Study,Evangelism,Life Group,Meetings,UMM
ATTACH;FMTTYPE=image/jpeg:https://pumcfortmill.org/wp-content/uploads/2022/03/Men-in-the-Mirror-Logo.jpg
END:VEVENT
BEGIN:VEVENT
DTSTART;TZID=America/New_York:20240924T181500
DTEND;TZID=America/New_York:20240924T190000
DTSTAMP:20260425T091744
CREATED:20240806T152234Z
LAST-MODIFIED:20240826T204343Z
UID:55241-1727201700-1727204400@pumcfortmill.org
SUMMARY:Ephesians Bible Study - Tuesday
DESCRIPTION:The book of Ephesians is the universal letter of Paul. It is his standard speech about the gospel story and how we should live out our story because of the gospel. We will offer TWO separate\, six-week classes on the book of Ephesians\, using the N.T. Wright For Everyone Bible Study Guide on Ephesians. You can purchase the guide from the church for $8 or find your copy online. One Bible Study starts Tuesday\, September 10th from 6:15-7:00pm and the other starts Wednesday\, September 11th from 6:15-7:00pm. Contact Nicolas@pumcfortmill.org to participate.
URL:https://pumcfortmill.org/event/ephesians-bible-study-tuesday-3/
CATEGORIES:Bible Study,Life Group
ATTACH;FMTTYPE=image/png:https://pumcfortmill.org/wp-content/uploads/2024/08/Add-your-text.png
END:VEVENT
BEGIN:VEVENT
DTSTART;TZID=America/New_York:20240925T181500
DTEND;TZID=America/New_York:20240925T190000
DTSTAMP:20260425T091744
CREATED:20240806T151027Z
LAST-MODIFIED:20240826T203001Z
UID:55225-1727288100-1727290800@pumcfortmill.org
SUMMARY:The Voyage of the Dawn Treader Bible Study
DESCRIPTION:A new six-week Bible study for kids based on Narnia book by C.S. Lewis. We will head out on the high seas of Narnia from the Lone Islands to the World’s End\, learning about seeing the truth of God’s Word. Ages 3 thru 5th Grade. Nursery also provided. Stars Wednesday\, September 11th from 6:15-7:00pm. Contact Nicolas@pumcfortmill.org to participate. \n\n\n\nA meal will be served every from 5:00-7:00pm for the whole family. Donations appreciated.
URL:https://pumcfortmill.org/event/the-voyage-of-the-dawn-treader-bible-study-3/
CATEGORIES:Children's Event,Event
ATTACH;FMTTYPE=image/png:https://pumcfortmill.org/wp-content/uploads/2024/08/Add-a-heading.png
END:VEVENT
BEGIN:VEVENT
DTSTART;TZID=America/New_York:20240925T181500
DTEND;TZID=America/New_York:20240925T190000
DTSTAMP:20260425T091744
CREATED:20240806T153303Z
LAST-MODIFIED:20240826T204452Z
UID:55255-1727288100-1727290800@pumcfortmill.org
SUMMARY:Ephesians Bible Study - Wednesday
DESCRIPTION:The book of Ephesians is the universal letter of Paul. It is his standard speech about the gospel story and how we should live out our story because of the gospel. We will offer TWO separate\, six-week classes on the book of Ephesians\, using the N.T. Wright For Everyone Bible Study Guide on Ephesians. You can purchase the guide from the church for $8 or find your copy online. One Bible Study starts Tuesday\, September 10th from 6:15-7:00pm and the other starts Wednesday\, September 11th from 6:15-7:00pm. Contact Nicolas@pumcfortmill.org to participate.
URL:https://pumcfortmill.org/event/ephesians-bible-study-wednesday-3/
CATEGORIES:Bible Study,Life Group
ATTACH;FMTTYPE=image/png:https://pumcfortmill.org/wp-content/uploads/2024/08/Add-your-text.png
END:VEVENT
END:VCALENDAR