BEGIN:VCALENDAR
VERSION:2.0
PRODID:-//Philadelphia United Methodist Church - ECPv6.15.17.1//NONSGML v1.0//EN
CALSCALE:GREGORIAN
METHOD:PUBLISH
X-WR-CALNAME:Philadelphia United Methodist Church
X-ORIGINAL-URL:https://pumcfortmill.org
X-WR-CALDESC:Events for Philadelphia United Methodist Church
REFRESH-INTERVAL;VALUE=DURATION:PT1H
X-Robots-Tag:noindex
X-PUBLISHED-TTL:PT1H
BEGIN:VTIMEZONE
TZID:America/New_York
BEGIN:DAYLIGHT
TZOFFSETFROM:-0500
TZOFFSETTO:-0400
TZNAME:EDT
DTSTART:20200308T070000
END:DAYLIGHT
BEGIN:STANDARD
TZOFFSETFROM:-0400
TZOFFSETTO:-0500
TZNAME:EST
DTSTART:20201101T060000
END:STANDARD
BEGIN:DAYLIGHT
TZOFFSETFROM:-0500
TZOFFSETTO:-0400
TZNAME:EDT
DTSTART:20210314T070000
END:DAYLIGHT
BEGIN:STANDARD
TZOFFSETFROM:-0400
TZOFFSETTO:-0500
TZNAME:EST
DTSTART:20211107T060000
END:STANDARD
BEGIN:DAYLIGHT
TZOFFSETFROM:-0500
TZOFFSETTO:-0400
TZNAME:EDT
DTSTART:20220313T070000
END:DAYLIGHT
BEGIN:STANDARD
TZOFFSETFROM:-0400
TZOFFSETTO:-0500
TZNAME:EST
DTSTART:20221106T060000
END:STANDARD
BEGIN:DAYLIGHT
TZOFFSETFROM:-0500
TZOFFSETTO:-0400
TZNAME:EDT
DTSTART:20230312T070000
END:DAYLIGHT
BEGIN:STANDARD
TZOFFSETFROM:-0400
TZOFFSETTO:-0500
TZNAME:EST
DTSTART:20231105T060000
END:STANDARD
END:VTIMEZONE
BEGIN:VEVENT
DTSTART;TZID=America/New_York:20220505T183000
DTEND;TZID=America/New_York:20220505T193000
DTSTAMP:20260424T160436
CREATED:20220110T150439Z
LAST-MODIFIED:20220110T150439Z
UID:7407-1651775400-1651779000@pumcfortmill.org
SUMMARY:UMW Meeting
DESCRIPTION:
URL:https://pumcfortmill.org/event/umw-meeting-5/
LOCATION:SC
END:VEVENT
BEGIN:VEVENT
DTSTART;TZID=America/New_York:20220505T050000
DTEND;TZID=America/New_York:20220505T074500
DTSTAMP:20260424T160436
CREATED:20211213T154915Z
LAST-MODIFIED:20211213T154915Z
UID:6655-1651726800-1651736700@pumcfortmill.org
SUMMARY:Camp Gladiator
DESCRIPTION:
URL:https://pumcfortmill.org/event/camp-gladiator-71/
LOCATION:SC
CATEGORIES:PUMC Guest Evemt
END:VEVENT
BEGIN:VEVENT
DTSTART;TZID=America/New_York:20220504T090000
DTEND;TZID=America/New_York:20220504T143000
DTSTAMP:20260424T160436
CREATED:20211213T154915Z
LAST-MODIFIED:20211213T154915Z
UID:6648-1651654800-1651674600@pumcfortmill.org
SUMMARY:LIFE Homeschool
DESCRIPTION:Kelly Caropreso\nkcaropreso@yahoo.com
URL:https://pumcfortmill.org/event/life-homeschool-32/
LOCATION:SC
CATEGORIES:PUMC Guest Evemt
END:VEVENT
BEGIN:VEVENT
DTSTART;TZID=America/New_York:20220504T050000
DTEND;TZID=America/New_York:20220504T074500
DTSTAMP:20260424T160436
CREATED:20211213T154915Z
LAST-MODIFIED:20211213T154915Z
UID:6642-1651640400-1651650300@pumcfortmill.org
SUMMARY:Camp Gladiator
DESCRIPTION:
URL:https://pumcfortmill.org/event/camp-gladiator-70/
LOCATION:SC
CATEGORIES:PUMC Guest Evemt
END:VEVENT
BEGIN:VEVENT
DTSTART;TZID=America/New_York:20220503T190000
DTEND;TZID=America/New_York:20220503T203000
DTSTAMP:20260424T160436
CREATED:20211213T154915Z
LAST-MODIFIED:20211213T154915Z
UID:6618-1651604400-1651609800@pumcfortmill.org
SUMMARY:Cub Scouts
DESCRIPTION:
URL:https://pumcfortmill.org/event/cub-scouts-15/
LOCATION:SC
CATEGORIES:PUMC Guest Evemt
END:VEVENT
BEGIN:VEVENT
DTSTART;TZID=America/New_York:20220502T090000
DTEND;TZID=America/New_York:20220502T143000
DTSTAMP:20260424T160436
CREATED:20211207T162629Z
LAST-MODIFIED:20211207T162629Z
UID:6582-1651482000-1651501800@pumcfortmill.org
SUMMARY:LIFE Homeschool
DESCRIPTION:Kelly Caropreso\nkcaropreso@yahoo.com
URL:https://pumcfortmill.org/event/life-homeschool-31/
LOCATION:SC
CATEGORIES:PUMC Guest Evemt
END:VEVENT
BEGIN:VEVENT
DTSTART;TZID=America/New_York:20220502T050000
DTEND;TZID=America/New_York:20220502T074500
DTSTAMP:20260424T160436
CREATED:20211207T162629Z
LAST-MODIFIED:20211207T162629Z
UID:6580-1651467600-1651477500@pumcfortmill.org
SUMMARY:Camp Gladiator
DESCRIPTION:
URL:https://pumcfortmill.org/event/camp-gladiator-69/
LOCATION:SC
CATEGORIES:PUMC Guest Evemt
END:VEVENT
BEGIN:VEVENT
DTSTART;TZID=America/New_York:20220501T170000
DTEND;TZID=America/New_York:20220501T190000
DTSTAMP:20260424T160436
CREATED:20211206T170033Z
LAST-MODIFIED:20211206T170033Z
UID:6552-1651424400-1651431600@pumcfortmill.org
SUMMARY:Philly Youth Group
DESCRIPTION:Philadlephia Youth Group is a group at PUMC for 6th-12th graders to spend time together fellowshipping and growing our faith!
URL:https://pumcfortmill.org/event/philly-youth-group-23/
LOCATION:SC
END:VEVENT
BEGIN:VEVENT
DTSTART;TZID=America/New_York:20220430T080000
DTEND;TZID=America/New_York:20220430T123000
DTSTAMP:20260424T160436
CREATED:20220423T194355Z
LAST-MODIFIED:20220423T194356Z
UID:11323-1651305600-1651321800@pumcfortmill.org
SUMMARY:Service Saturday @ Samaritan's Feet
DESCRIPTION:We have 10 slots to fill! Serve others at the Samaritan’s Feet Warehouse. You can bring a friend! This is a fun and unique experience. This organization has been providing shoes and socks to those fleeing the Ukraine. Each participant is asked to bring $25 or a new pair of athletic shoes.  \n\n\n\nSign up on PYG Sign Up Genius https://www.signupgenius.com/go/70A0849A5AB22A3F85-pygvolunteer
URL:https://pumcfortmill.org/event/service-saturday-samaritans-feet/
LOCATION:Philadelphia United Methodist Church\, 1691 Hwy. 160 W\, Fort Mill\, SC\, 29708\, United States
CATEGORIES:Event,Youth
ATTACH;FMTTYPE=image/jpeg:https://pumcfortmill.org/wp-content/uploads/2022/04/uAQVRhVn_400x400.jpg
END:VEVENT
BEGIN:VEVENT
DTSTART;TZID=America/New_York:20220429T170000
DTEND;TZID=America/New_York:20220429T213000
DTSTAMP:20260424T160436
CREATED:20211206T170006Z
LAST-MODIFIED:20211206T170006Z
UID:6535-1651251600-1651267800@pumcfortmill.org
SUMMARY:TKA Jewish Service
DESCRIPTION:Alan Reznik\n704.579.1772
URL:https://pumcfortmill.org/event/tka-jewish-service-10/
LOCATION:SC
CATEGORIES:PUMC Guest Evemt
END:VEVENT
BEGIN:VEVENT
DTSTART;TZID=America/New_York:20220304T094500
DTEND;TZID=America/New_York:20220304T110000
DTSTAMP:20260424T160436
CREATED:20220223T214317Z
LAST-MODIFIED:20220224T021418Z
UID:8424-1646387100-1646391600@pumcfortmill.org
SUMMARY:Ladies Bible Study
DESCRIPTION:We examine various books throughout the year to help us grow in the word of God. Through fellowship and study\, we seek to walk closer with God. Ladies of all ages are invited.
URL:https://pumcfortmill.org/event/ladies-bible-study-8/
LOCATION:PUMC Disciples Classroom\, 1691 Hwy 160 West\, Fort Mill\, South Carolina\, 29708
CATEGORIES:Life Group
ATTACH;FMTTYPE=image/jpeg:https://pumcfortmill.org/wp-content/uploads/2022/02/86-864587_ladies-bible-study-custom-listing-for-oceana.png.jpeg
ORGANIZER;CN="Linda Jacoby":MAILTO:barklin@aol.com
END:VEVENT
BEGIN:VEVENT
DTSTART;TZID=America/New_York:20220401T094500
DTEND;TZID=America/New_York:20220401T110000
DTSTAMP:20260424T160436
CREATED:20220223T214317Z
LAST-MODIFIED:20220323T160650Z
UID:9360-1648806300-1648810800@pumcfortmill.org
SUMMARY:Ladies Bible Study
DESCRIPTION:We examine various books throughout the year to help us grow in the word of God. Through fellowship and study\, we seek to walk closer with God. Ladies of all ages are invited.
URL:https://pumcfortmill.org/event/ladies-bible-study-8-2022-04-01/
LOCATION:PUMC Disciples Classroom\, 1691 Hwy 160 West\, Fort Mill\, South Carolina\, 29708
CATEGORIES:Event,Life Group
ATTACH;FMTTYPE=image/jpeg:https://pumcfortmill.org/wp-content/uploads/2022/02/86-864587_ladies-bible-study-custom-listing-for-oceana.png.jpeg
ORGANIZER;CN="Linda Jacoby":MAILTO:barklin@aol.com
END:VEVENT
BEGIN:VEVENT
DTSTART;TZID=America/New_York:20220428T050000
DTEND;TZID=America/New_York:20220428T074500
DTSTAMP:20260424T160436
CREATED:20211206T170104Z
LAST-MODIFIED:20211206T170104Z
UID:6530-1651122000-1651131900@pumcfortmill.org
SUMMARY:Camp Gladiator
DESCRIPTION:
URL:https://pumcfortmill.org/event/camp-gladiator-68/
LOCATION:SC
CATEGORIES:PUMC Guest Evemt
END:VEVENT
BEGIN:VEVENT
DTSTART;TZID=America/New_York:20220427T090000
DTEND;TZID=America/New_York:20220427T143000
DTSTAMP:20260424T160436
CREATED:20211206T170005Z
LAST-MODIFIED:20211206T170005Z
UID:6523-1651050000-1651069800@pumcfortmill.org
SUMMARY:LIFE Homeschool
DESCRIPTION:Kelly Caropreso\nkcaropreso@yahoo.com
URL:https://pumcfortmill.org/event/life-homeschool-30/
LOCATION:SC
CATEGORIES:PUMC Guest Evemt
END:VEVENT
BEGIN:VEVENT
DTSTART;TZID=America/New_York:20220427T050000
DTEND;TZID=America/New_York:20220427T074500
DTSTAMP:20260424T160436
CREATED:20211206T170005Z
LAST-MODIFIED:20211206T170005Z
UID:6521-1651035600-1651045500@pumcfortmill.org
SUMMARY:Camp Gladiator
DESCRIPTION:
URL:https://pumcfortmill.org/event/camp-gladiator-67/
LOCATION:SC
CATEGORIES:PUMC Guest Evemt
END:VEVENT
BEGIN:VEVENT
DTSTART;TZID=America/New_York:20220426T190000
DTEND;TZID=America/New_York:20220426T203000
DTSTAMP:20260424T160436
CREATED:20211206T170104Z
LAST-MODIFIED:20211206T170104Z
UID:6519-1650999600-1651005000@pumcfortmill.org
SUMMARY:Cub Scouts
DESCRIPTION:
URL:https://pumcfortmill.org/event/cub-scouts-14/
LOCATION:SC
CATEGORIES:PUMC Guest Evemt
END:VEVENT
BEGIN:VEVENT
DTSTART;TZID=America/New_York:20220425T183000
DTEND;TZID=America/New_York:20220425T193000
DTSTAMP:20260424T160436
CREATED:20211206T170005Z
LAST-MODIFIED:20211206T170005Z
UID:6451-1650911400-1650915000@pumcfortmill.org
SUMMARY:Boy Scouts
DESCRIPTION:
URL:https://pumcfortmill.org/event/boy-scouts-4/
LOCATION:SC
CATEGORIES:PUMC Guest Evemt
END:VEVENT
BEGIN:VEVENT
DTSTART;TZID=America/New_York:20220425T090000
DTEND;TZID=America/New_York:20220425T143000
DTSTAMP:20260424T160436
CREATED:20211206T170005Z
LAST-MODIFIED:20211206T170005Z
UID:6433-1650877200-1650897000@pumcfortmill.org
SUMMARY:LIFE Homeschool
DESCRIPTION:Kelly Caropreso\nkcaropreso@yahoo.com
URL:https://pumcfortmill.org/event/life-homeschool-29/
LOCATION:SC
CATEGORIES:PUMC Guest Evemt
END:VEVENT
BEGIN:VEVENT
DTSTART;TZID=America/New_York:20220425T050000
DTEND;TZID=America/New_York:20220425T074500
DTSTAMP:20260424T160436
CREATED:20211206T170005Z
LAST-MODIFIED:20211206T170005Z
UID:6415-1650862800-1650872700@pumcfortmill.org
SUMMARY:Camp Gladiator
DESCRIPTION:
URL:https://pumcfortmill.org/event/camp-gladiator-66/
LOCATION:SC
CATEGORIES:PUMC Guest Evemt
END:VEVENT
BEGIN:VEVENT
DTSTART;TZID=America/New_York:20220424T170000
DTEND;TZID=America/New_York:20220424T190000
DTSTAMP:20260424T160436
CREATED:20211206T170033Z
LAST-MODIFIED:20211206T170033Z
UID:6413-1650819600-1650826800@pumcfortmill.org
SUMMARY:Philly Youth Group
DESCRIPTION:Philadlephia Youth Group is a group at PUMC for 6th-12th graders to spend time together fellowshipping and growing our faith!
URL:https://pumcfortmill.org/event/philly-youth-group-22/
LOCATION:SC
END:VEVENT
BEGIN:VEVENT
DTSTART;TZID=America/New_York:20220424T140000
DTEND;TZID=America/New_York:20220424T150000
DTSTAMP:20260424T160436
CREATED:20211206T170033Z
LAST-MODIFIED:20211206T170033Z
UID:6404-1650808800-1650812400@pumcfortmill.org
SUMMARY:Nurture Committee
DESCRIPTION:
URL:https://pumcfortmill.org/event/nurture-committee-6/
LOCATION:SC
END:VEVENT
BEGIN:VEVENT
DTSTART;TZID=America/New_York:20220423T100000
DTEND;TZID=America/New_York:20220423T130000
DTSTAMP:20260424T160436
CREATED:20220223T222548Z
LAST-MODIFIED:20220323T163957Z
UID:8435-1650708000-1650718800@pumcfortmill.org
SUMMARY:Community Shred-It Event
DESCRIPTION:10am – 1pm: One Blood Big Red Bus on hand for your life-saving donations. Sign up to donate: https://donor.oneblood.org/donor/schedules/drive_schedule/1169707 \n\n\n\n11am – 1pm: Shred It Truck will shred sensitive documents on site. No charge\, but donations for PUMC missions accepted. \n\n\n\n10am – 1 pm: Purchase delicious homemade baked goods and BBQ pork from our men’s & women’s groups.
URL:https://pumcfortmill.org/event/community-shred-it-event/
LOCATION:Philadelphia United Methodist Church\, 1691 Hwy. 160 W\, Fort Mill\, SC\, 29708\, United States
CATEGORIES:Evangelism,Event
ATTACH;FMTTYPE=image/jpeg:https://pumcfortmill.org/wp-content/uploads/2022/02/Shred-It-truck-scaled-e1645655027961.jpg
ORGANIZER;CN="Jan Manring":MAILTO:Manring.jm@gmail.com
END:VEVENT
BEGIN:VEVENT
DTSTART;TZID=America/New_York:20220304T094500
DTEND;TZID=America/New_York:20220304T110000
DTSTAMP:20260424T160436
CREATED:20220223T214317Z
LAST-MODIFIED:20220224T021418Z
UID:8424-1646387100-1646391600@pumcfortmill.org
SUMMARY:Ladies Bible Study
DESCRIPTION:We examine various books throughout the year to help us grow in the word of God. Through fellowship and study\, we seek to walk closer with God. Ladies of all ages are invited.
URL:https://pumcfortmill.org/event/ladies-bible-study-8/
LOCATION:PUMC Disciples Classroom\, 1691 Hwy 160 West\, Fort Mill\, South Carolina\, 29708
CATEGORIES:Life Group
ATTACH;FMTTYPE=image/jpeg:https://pumcfortmill.org/wp-content/uploads/2022/02/86-864587_ladies-bible-study-custom-listing-for-oceana.png.jpeg
ORGANIZER;CN="Linda Jacoby":MAILTO:barklin@aol.com
END:VEVENT
BEGIN:VEVENT
DTSTART;TZID=America/New_York:20220401T094500
DTEND;TZID=America/New_York:20220401T110000
DTSTAMP:20260424T160436
CREATED:20220223T214317Z
LAST-MODIFIED:20220323T160650Z
UID:9360-1648806300-1648810800@pumcfortmill.org
SUMMARY:Ladies Bible Study
DESCRIPTION:We examine various books throughout the year to help us grow in the word of God. Through fellowship and study\, we seek to walk closer with God. Ladies of all ages are invited.
URL:https://pumcfortmill.org/event/ladies-bible-study-8-2022-04-01/
LOCATION:PUMC Disciples Classroom\, 1691 Hwy 160 West\, Fort Mill\, South Carolina\, 29708
CATEGORIES:Event,Life Group
ATTACH;FMTTYPE=image/jpeg:https://pumcfortmill.org/wp-content/uploads/2022/02/86-864587_ladies-bible-study-custom-listing-for-oceana.png.jpeg
ORGANIZER;CN="Linda Jacoby":MAILTO:barklin@aol.com
END:VEVENT
BEGIN:VEVENT
DTSTART;TZID=America/New_York:20220421T050000
DTEND;TZID=America/New_York:20220421T074500
DTSTAMP:20260424T160436
CREATED:20211130T183519Z
LAST-MODIFIED:20211130T183524Z
UID:6379-1650517200-1650527100@pumcfortmill.org
SUMMARY:Camp Gladiator
DESCRIPTION:
URL:https://pumcfortmill.org/event/camp-gladiator-65/
LOCATION:SC
CATEGORIES:PUMC Guest Evemt
END:VEVENT
BEGIN:VEVENT
DTSTART;TZID=America/New_York:20220420T050000
DTEND;TZID=America/New_York:20220420T074500
DTSTAMP:20260424T160436
CREATED:20211130T183517Z
LAST-MODIFIED:20211130T183523Z
UID:6327-1650430800-1650440700@pumcfortmill.org
SUMMARY:Camp Gladiator
DESCRIPTION:
URL:https://pumcfortmill.org/event/camp-gladiator-64/
LOCATION:SC
CATEGORIES:PUMC Guest Evemt
END:VEVENT
BEGIN:VEVENT
DTSTART;TZID=America/New_York:20220419T190000
DTEND;TZID=America/New_York:20220419T203000
DTSTAMP:20260424T160436
CREATED:20211129T160101Z
LAST-MODIFIED:20211129T160101Z
UID:6291-1650394800-1650400200@pumcfortmill.org
SUMMARY:Cub Scouts
DESCRIPTION:
URL:https://pumcfortmill.org/event/cub-scouts-13/
LOCATION:SC
CATEGORIES:PUMC Guest Evemt
END:VEVENT
BEGIN:VEVENT
DTSTART;TZID=America/New_York:20210921T183000
DTEND;TZID=America/New_York:20210921T200000
DTSTAMP:20260424T160436
CREATED:20210908T224609Z
LAST-MODIFIED:20210909T023430Z
UID:4907-1632249000-1632254400@pumcfortmill.org
SUMMARY:JR Jones Circle
DESCRIPTION:JR Jones (JRJ) is a women’s circle within the United Methodist Women. Circles are smaller groups meeting monthly that allow women to explore their faith\, share life’s joys and sorrows and participate in service projects. JR Jones ladies are mostly mid-life with some working and some retired and mostly grown children. Drop in on any meeting or contact Elaine McDonald\, emcd4505@gmail.com with any questions.
URL:https://pumcfortmill.org/event/jr-jones-circle/
LOCATION:Philadelphia United Methodist Church\, 1691 Hwy. 160 W\, Fort Mill\, SC\, 29708\, United States
CATEGORIES:Life Group,UMW
ATTACH;FMTTYPE=image/png:https://pumcfortmill.org/wp-content/uploads/2021/07/UMW-logo.png
END:VEVENT
BEGIN:VEVENT
DTSTART;TZID=America/New_York:20220418T183000
DTEND;TZID=America/New_York:20220418T193000
DTSTAMP:20260424T160436
CREATED:20211129T160100Z
LAST-MODIFIED:20211129T160100Z
UID:6281-1650306600-1650310200@pumcfortmill.org
SUMMARY:Boy Scouts
DESCRIPTION:
URL:https://pumcfortmill.org/event/boy-scouts-3/
LOCATION:SC
CATEGORIES:PUMC Guest Evemt
END:VEVENT
BEGIN:VEVENT
DTSTART;TZID=America/New_York:20220418T050000
DTEND;TZID=America/New_York:20220418T074500
DTSTAMP:20260424T160436
CREATED:20211129T160100Z
LAST-MODIFIED:20211129T160100Z
UID:6267-1650258000-1650267900@pumcfortmill.org
SUMMARY:Camp Gladiator
DESCRIPTION:
URL:https://pumcfortmill.org/event/camp-gladiator-63/
LOCATION:SC
CATEGORIES:PUMC Guest Evemt
END:VEVENT
END:VCALENDAR