BEGIN:VCALENDAR
VERSION:2.0
PRODID:-//Philadelphia United Methodist Church - ECPv6.15.17.1//NONSGML v1.0//EN
CALSCALE:GREGORIAN
METHOD:PUBLISH
X-WR-CALNAME:Philadelphia United Methodist Church
X-ORIGINAL-URL:https://pumcfortmill.org
X-WR-CALDESC:Events for Philadelphia United Methodist Church
REFRESH-INTERVAL;VALUE=DURATION:PT1H
X-Robots-Tag:noindex
X-PUBLISHED-TTL:PT1H
BEGIN:VTIMEZONE
TZID:America/New_York
BEGIN:DAYLIGHT
TZOFFSETFROM:-0500
TZOFFSETTO:-0400
TZNAME:EDT
DTSTART:20200308T070000
END:DAYLIGHT
BEGIN:STANDARD
TZOFFSETFROM:-0400
TZOFFSETTO:-0500
TZNAME:EST
DTSTART:20201101T060000
END:STANDARD
BEGIN:DAYLIGHT
TZOFFSETFROM:-0500
TZOFFSETTO:-0400
TZNAME:EDT
DTSTART:20210314T070000
END:DAYLIGHT
BEGIN:STANDARD
TZOFFSETFROM:-0400
TZOFFSETTO:-0500
TZNAME:EST
DTSTART:20211107T060000
END:STANDARD
BEGIN:DAYLIGHT
TZOFFSETFROM:-0500
TZOFFSETTO:-0400
TZNAME:EDT
DTSTART:20220313T070000
END:DAYLIGHT
BEGIN:STANDARD
TZOFFSETFROM:-0400
TZOFFSETTO:-0500
TZNAME:EST
DTSTART:20221106T060000
END:STANDARD
BEGIN:DAYLIGHT
TZOFFSETFROM:-0500
TZOFFSETTO:-0400
TZNAME:EDT
DTSTART:20230312T070000
END:DAYLIGHT
BEGIN:STANDARD
TZOFFSETFROM:-0400
TZOFFSETTO:-0500
TZNAME:EST
DTSTART:20231105T060000
END:STANDARD
END:VTIMEZONE
BEGIN:VEVENT
DTSTART;TZID=America/New_York:20220602T183000
DTEND;TZID=America/New_York:20220602T193000
DTSTAMP:20260423T181210
CREATED:20220110T150500Z
LAST-MODIFIED:20220110T150500Z
UID:7474-1654194600-1654198200@pumcfortmill.org
SUMMARY:UMW Meeting
DESCRIPTION:
URL:https://pumcfortmill.org/event/umw-meeting-6/
LOCATION:SC
CATEGORIES:UMW
END:VEVENT
BEGIN:VEVENT
DTSTART;TZID=America/New_York:20220602T050000
DTEND;TZID=America/New_York:20220602T074500
DTSTAMP:20260423T181210
CREATED:20211228T155555Z
LAST-MODIFIED:20211228T155555Z
UID:7139-1654146000-1654155900@pumcfortmill.org
SUMMARY:Camp Gladiator
DESCRIPTION:
URL:https://pumcfortmill.org/event/camp-gladiator-83/
LOCATION:SC
CATEGORIES:PUMC Guest Evemt
END:VEVENT
BEGIN:VEVENT
DTSTART;TZID=America/New_York:20220601T050000
DTEND;TZID=America/New_York:20220601T074500
DTSTAMP:20260423T181210
CREATED:20211228T155555Z
LAST-MODIFIED:20211228T155555Z
UID:7120-1654059600-1654069500@pumcfortmill.org
SUMMARY:Camp Gladiator
DESCRIPTION:
URL:https://pumcfortmill.org/event/camp-gladiator-82/
LOCATION:SC
CATEGORIES:PUMC Guest Evemt
END:VEVENT
BEGIN:VEVENT
DTSTART;TZID=America/New_York:20220531T190000
DTEND;TZID=America/New_York:20220531T203000
DTSTAMP:20260423T181210
CREATED:20211228T155555Z
LAST-MODIFIED:20211228T155555Z
UID:7115-1654023600-1654029000@pumcfortmill.org
SUMMARY:Cub Scouts
DESCRIPTION:
URL:https://pumcfortmill.org/event/cub-scouts-19/
LOCATION:SC
CATEGORIES:PUMC Guest Evemt
END:VEVENT
BEGIN:VEVENT
DTSTART;TZID=America/New_York:20220530T050000
DTEND;TZID=America/New_York:20220530T074500
DTSTAMP:20260423T181210
CREATED:20211228T155533Z
LAST-MODIFIED:20211228T155533Z
UID:7107-1653886800-1653896700@pumcfortmill.org
SUMMARY:Camp Gladiator
DESCRIPTION:
URL:https://pumcfortmill.org/event/camp-gladiator-81/
LOCATION:SC
CATEGORIES:PUMC Guest Evemt
END:VEVENT
BEGIN:VEVENT
DTSTART;TZID=America/New_York:20220529T170000
DTEND;TZID=America/New_York:20220529T190000
DTSTAMP:20260423T181210
CREATED:20211228T155625Z
LAST-MODIFIED:20211228T155625Z
UID:7040-1653843600-1653850800@pumcfortmill.org
SUMMARY:Philly Youth Group
DESCRIPTION:Philadlephia Youth Group is a group at PUMC for 6th-12th graders to spend time together fellowshipping and growing our faith!
URL:https://pumcfortmill.org/event/philly-youth-group-27/
LOCATION:SC
END:VEVENT
BEGIN:VEVENT
DTSTART;TZID=America/New_York:20220401T094500
DTEND;TZID=America/New_York:20220401T110000
DTSTAMP:20260423T181210
CREATED:20220223T214317Z
LAST-MODIFIED:20220323T160650Z
UID:9360-1648806300-1648810800@pumcfortmill.org
SUMMARY:Ladies Bible Study
DESCRIPTION:We examine various books throughout the year to help us grow in the word of God. Through fellowship and study\, we seek to walk closer with God. Ladies of all ages are invited.
URL:https://pumcfortmill.org/event/ladies-bible-study-8-2022-04-01/
LOCATION:PUMC Disciples Classroom\, 1691 Hwy 160 West\, Fort Mill\, South Carolina\, 29708
CATEGORIES:Event,Life Group
ATTACH;FMTTYPE=image/jpeg:https://pumcfortmill.org/wp-content/uploads/2022/02/86-864587_ladies-bible-study-custom-listing-for-oceana.png.jpeg
ORGANIZER;CN="Linda Jacoby":MAILTO:barklin@aol.com
END:VEVENT
BEGIN:VEVENT
DTSTART;TZID=America/New_York:20220526T050000
DTEND;TZID=America/New_York:20220526T074500
DTSTAMP:20260423T181210
CREATED:20211228T155533Z
LAST-MODIFIED:20211228T155533Z
UID:7014-1653541200-1653551100@pumcfortmill.org
SUMMARY:Camp Gladiator
DESCRIPTION:
URL:https://pumcfortmill.org/event/camp-gladiator-80/
LOCATION:SC
CATEGORIES:PUMC Guest Evemt
END:VEVENT
BEGIN:VEVENT
DTSTART;TZID=America/New_York:20220525T050000
DTEND;TZID=America/New_York:20220525T074500
DTSTAMP:20260423T181210
CREATED:20211228T155532Z
LAST-MODIFIED:20211228T155532Z
UID:6996-1653454800-1653464700@pumcfortmill.org
SUMMARY:Camp Gladiator
DESCRIPTION:
URL:https://pumcfortmill.org/event/camp-gladiator-79/
LOCATION:SC
CATEGORIES:PUMC Guest Evemt
END:VEVENT
BEGIN:VEVENT
DTSTART;TZID=America/New_York:20220524T190000
DTEND;TZID=America/New_York:20220524T203000
DTSTAMP:20260423T181210
CREATED:20211228T155532Z
LAST-MODIFIED:20211228T155532Z
UID:6987-1653418800-1653424200@pumcfortmill.org
SUMMARY:Cub Scouts
DESCRIPTION:
URL:https://pumcfortmill.org/event/cub-scouts-18/
LOCATION:SC
CATEGORIES:PUMC Guest Evemt
END:VEVENT
BEGIN:VEVENT
DTSTART;TZID=America/New_York:20220523T050000
DTEND;TZID=America/New_York:20220523T074500
DTSTAMP:20260423T181210
CREATED:20211228T155532Z
LAST-MODIFIED:20211228T155532Z
UID:6942-1653282000-1653291900@pumcfortmill.org
SUMMARY:Camp Gladiator
DESCRIPTION:
URL:https://pumcfortmill.org/event/camp-gladiator-78/
LOCATION:SC
CATEGORIES:PUMC Guest Evemt
END:VEVENT
BEGIN:VEVENT
DTSTART;TZID=America/New_York:20220522T170000
DTEND;TZID=America/New_York:20220522T190000
DTSTAMP:20260423T181210
CREATED:20211228T155508Z
LAST-MODIFIED:20211228T155508Z
UID:6938-1653238800-1653246000@pumcfortmill.org
SUMMARY:Philly Youth Group
DESCRIPTION:Philadlephia Youth Group is a group at PUMC for 6th-12th graders to spend time together fellowshipping and growing our faith!
URL:https://pumcfortmill.org/event/philly-youth-group-26/
LOCATION:SC
END:VEVENT
BEGIN:VEVENT
DTSTART;TZID=America/New_York:20220522T140000
DTEND;TZID=America/New_York:20220522T150000
DTSTAMP:20260423T181210
CREATED:20211228T155507Z
LAST-MODIFIED:20211228T155507Z
UID:6937-1653228000-1653231600@pumcfortmill.org
SUMMARY:Nurture Committee
DESCRIPTION:
URL:https://pumcfortmill.org/event/nurture-committee-7/
LOCATION:SC
END:VEVENT
BEGIN:VEVENT
DTSTART;TZID=America/New_York:20220522T110000
DTEND;TZID=America/New_York:20220522T110000
DTSTAMP:20260423T181210
CREATED:20220421T193338Z
LAST-MODIFIED:20220421T193339Z
UID:11235-1653217200-1653217200@pumcfortmill.org
SUMMARY:Youth Sunday
DESCRIPTION:Our youth will share their talents as they assist Pastor David in worship.
URL:https://pumcfortmill.org/event/youth-sunday/
LOCATION:Philadelphia United Methodist Church\, 1691 Hwy. 160 W\, Fort Mill\, SC\, 29708\, United States
CATEGORIES:Event,Youth
ATTACH;FMTTYPE=image/jpeg:https://pumcfortmill.org/wp-content/uploads/2022/04/youth-sunday-image-orig_orig.jpg
END:VEVENT
BEGIN:VEVENT
DTSTART;TZID=America/New_York:20220304T094500
DTEND;TZID=America/New_York:20220304T110000
DTSTAMP:20260423T181210
CREATED:20220223T214317Z
LAST-MODIFIED:20220224T021418Z
UID:8424-1646387100-1646391600@pumcfortmill.org
SUMMARY:Ladies Bible Study
DESCRIPTION:We examine various books throughout the year to help us grow in the word of God. Through fellowship and study\, we seek to walk closer with God. Ladies of all ages are invited.
URL:https://pumcfortmill.org/event/ladies-bible-study-8/
LOCATION:PUMC Disciples Classroom\, 1691 Hwy 160 West\, Fort Mill\, South Carolina\, 29708
CATEGORIES:Life Group
ATTACH;FMTTYPE=image/jpeg:https://pumcfortmill.org/wp-content/uploads/2022/02/86-864587_ladies-bible-study-custom-listing-for-oceana.png.jpeg
ORGANIZER;CN="Linda Jacoby":MAILTO:barklin@aol.com
END:VEVENT
BEGIN:VEVENT
DTSTART;TZID=America/New_York:20220401T094500
DTEND;TZID=America/New_York:20220401T110000
DTSTAMP:20260423T181210
CREATED:20220223T214317Z
LAST-MODIFIED:20220323T160650Z
UID:9360-1648806300-1648810800@pumcfortmill.org
SUMMARY:Ladies Bible Study
DESCRIPTION:We examine various books throughout the year to help us grow in the word of God. Through fellowship and study\, we seek to walk closer with God. Ladies of all ages are invited.
URL:https://pumcfortmill.org/event/ladies-bible-study-8-2022-04-01/
LOCATION:PUMC Disciples Classroom\, 1691 Hwy 160 West\, Fort Mill\, South Carolina\, 29708
CATEGORIES:Event,Life Group
ATTACH;FMTTYPE=image/jpeg:https://pumcfortmill.org/wp-content/uploads/2022/02/86-864587_ladies-bible-study-custom-listing-for-oceana.png.jpeg
ORGANIZER;CN="Linda Jacoby":MAILTO:barklin@aol.com
END:VEVENT
BEGIN:VEVENT
DTSTART;TZID=America/New_York:20220520T094500
DTEND;TZID=America/New_York:20220520T110000
DTSTAMP:20260423T181210
CREATED:20211228T155507Z
LAST-MODIFIED:20211228T155507Z
UID:6931-1653039900-1653044400@pumcfortmill.org
SUMMARY:Ladies Bible Study
DESCRIPTION:
URL:https://pumcfortmill.org/event/ladies-bible-study-6/
LOCATION:SC
END:VEVENT
BEGIN:VEVENT
DTSTART;TZID=America/New_York:20220519T050000
DTEND;TZID=America/New_York:20220519T074500
DTSTAMP:20260423T181210
CREATED:20211228T155532Z
LAST-MODIFIED:20211228T155532Z
UID:6927-1652936400-1652946300@pumcfortmill.org
SUMMARY:Camp Gladiator
DESCRIPTION:
URL:https://pumcfortmill.org/event/camp-gladiator-77/
LOCATION:SC
CATEGORIES:PUMC Guest Evemt
END:VEVENT
BEGIN:VEVENT
DTSTART;TZID=America/New_York:20220518T050000
DTEND;TZID=America/New_York:20220518T074500
DTSTAMP:20260423T181210
CREATED:20211228T155532Z
LAST-MODIFIED:20211228T155532Z
UID:6902-1652850000-1652859900@pumcfortmill.org
SUMMARY:Camp Gladiator
DESCRIPTION:
URL:https://pumcfortmill.org/event/camp-gladiator-76/
LOCATION:SC
CATEGORIES:PUMC Guest Evemt
END:VEVENT
BEGIN:VEVENT
DTSTART;TZID=America/New_York:20220517T190000
DTEND;TZID=America/New_York:20220517T203000
DTSTAMP:20260423T181210
CREATED:20211228T155532Z
LAST-MODIFIED:20211228T155532Z
UID:6889-1652814000-1652819400@pumcfortmill.org
SUMMARY:Cub Scouts
DESCRIPTION:
URL:https://pumcfortmill.org/event/cub-scouts-17/
LOCATION:SC
CATEGORIES:PUMC Guest Evemt
END:VEVENT
BEGIN:VEVENT
DTSTART;TZID=America/New_York:20220517T183000
DTEND;TZID=America/New_York:20220517T210000
DTSTAMP:20260423T181210
CREATED:20220510T182447Z
LAST-MODIFIED:20220510T182756Z
UID:11798-1652812200-1652821200@pumcfortmill.org
SUMMARY:Knights' Baseball
DESCRIPTION:Our United Methodist Men have reserved a section of seats behind the 3rd baseline. Bring the family out for a night of baseball. The Charlotte Knights are a White Sox farm team. Cost is $21. Contact Bill Ray\, billnoneray@yahoo.com for tickets.
URL:https://pumcfortmill.org/event/knights-baseball/
LOCATION:Philadelphia United Methodist Church\, 1691 Hwy. 160 W\, Fort Mill\, SC\, 29708\, United States
CATEGORIES:Event,Life Group,UMM
ATTACH;FMTTYPE=image/jpeg:https://pumcfortmill.org/wp-content/uploads/2022/05/Charlotte-Knights-logo-3.jpg
END:VEVENT
BEGIN:VEVENT
DTSTART;TZID=America/New_York:20210921T183000
DTEND;TZID=America/New_York:20210921T200000
DTSTAMP:20260423T181210
CREATED:20210908T224609Z
LAST-MODIFIED:20210909T023430Z
UID:4907-1632249000-1632254400@pumcfortmill.org
SUMMARY:JR Jones Circle
DESCRIPTION:JR Jones (JRJ) is a women’s circle within the United Methodist Women. Circles are smaller groups meeting monthly that allow women to explore their faith\, share life’s joys and sorrows and participate in service projects. JR Jones ladies are mostly mid-life with some working and some retired and mostly grown children. Drop in on any meeting or contact Elaine McDonald\, emcd4505@gmail.com with any questions.
URL:https://pumcfortmill.org/event/jr-jones-circle/
LOCATION:Philadelphia United Methodist Church\, 1691 Hwy. 160 W\, Fort Mill\, SC\, 29708\, United States
CATEGORIES:Life Group,UMW
ATTACH;FMTTYPE=image/png:https://pumcfortmill.org/wp-content/uploads/2021/07/UMW-logo.png
END:VEVENT
BEGIN:VEVENT
DTSTART;TZID=America/New_York:20220516T183000
DTEND;TZID=America/New_York:20220516T193000
DTSTAMP:20260423T181210
CREATED:20211228T155532Z
LAST-MODIFIED:20211228T155532Z
UID:6851-1652725800-1652729400@pumcfortmill.org
SUMMARY:Boy Scouts
DESCRIPTION:
URL:https://pumcfortmill.org/event/boy-scouts-6/
LOCATION:SC
CATEGORIES:PUMC Guest Evemt
END:VEVENT
BEGIN:VEVENT
DTSTART;TZID=America/New_York:20220516T050000
DTEND;TZID=America/New_York:20220516T074500
DTSTAMP:20260423T181210
CREATED:20211228T155532Z
LAST-MODIFIED:20211228T155532Z
UID:6826-1652677200-1652687100@pumcfortmill.org
SUMMARY:Camp Gladiator
DESCRIPTION:
URL:https://pumcfortmill.org/event/camp-gladiator-75/
LOCATION:SC
CATEGORIES:PUMC Guest Evemt
END:VEVENT
BEGIN:VEVENT
DTSTART;TZID=America/New_York:20220515T170000
DTEND;TZID=America/New_York:20220515T190000
DTSTAMP:20260423T181210
CREATED:20211228T155507Z
LAST-MODIFIED:20211228T155507Z
UID:6824-1652634000-1652641200@pumcfortmill.org
SUMMARY:Philly Youth Group
DESCRIPTION:Philadlephia Youth Group is a group at PUMC for 6th-12th graders to spend time together fellowshipping and growing our faith!
URL:https://pumcfortmill.org/event/philly-youth-group-25/
LOCATION:SC
END:VEVENT
BEGIN:VEVENT
DTSTART;TZID=America/New_York:20220515T133000
DTEND;TZID=America/New_York:20220515T150000
DTSTAMP:20260423T181210
CREATED:20211215T162429Z
LAST-MODIFIED:20220510T180706Z
UID:6805-1652621400-1652626800@pumcfortmill.org
SUMMARY:Church Council
DESCRIPTION:The Church Council is the body entrusted by the Charge Conference to envision\, plan\, implement\, and annually evaluate the missions and ministries of PUMC including programs of nurture\, outreach\, witness\, and stewardship. Both chairs of PUMC committees and staff serve on Church Council. Meetings are open to anyone within the church.  \n\n\n\nOur Mission: To make Disciples of Jesus Christ for the transformation of the world by Worshiping in Love\, Growing in Love\, and Serving in Love.
URL:https://pumcfortmill.org/event/church-council-6/
LOCATION:SC
CATEGORIES:Meetings
END:VEVENT
BEGIN:VEVENT
DTSTART;TZID=America/New_York:20220513T170000
DTEND;TZID=America/New_York:20220513T213000
DTSTAMP:20260423T181210
CREATED:20211215T162451Z
LAST-MODIFIED:20211215T162451Z
UID:6784-1652461200-1652477400@pumcfortmill.org
SUMMARY:TKA Jewish Service
DESCRIPTION:Alan Reznik\n704.579.1772
URL:https://pumcfortmill.org/event/tka-jewish-service-11/
LOCATION:SC
CATEGORIES:PUMC Guest Evemt
END:VEVENT
BEGIN:VEVENT
DTSTART;TZID=America/New_York:20220512T173000
DTEND;TZID=America/New_York:20220512T200000
DTSTAMP:20260423T181210
CREATED:20220223T221219Z
LAST-MODIFIED:20220423T192959Z
UID:8440-1652376600-1652385600@pumcfortmill.org
SUMMARY:Girls Got Game Night Out
DESCRIPTION:Grab a friend\, daughter\, sister or mom and join us for a night of good food and fun. All women and young ladies are invited. Games\, fellowship\, photo booth\, prizes and BBQ dinner. $10 for adults and $5 under 12. Tickets on sale in the Coffee Connections Room or contact Karla Preston\, klcpreston@gmail.com.
URL:https://pumcfortmill.org/event/umw-celebration-of-women/
LOCATION:SC
CATEGORIES:Event,Life Group,UMW
ATTACH;FMTTYPE=image/jpeg:https://pumcfortmill.org/wp-content/uploads/2022/02/13B2CDC0-F171-4276-8D4C-E826A767DB70_4_5005_c.jpeg
END:VEVENT
BEGIN:VEVENT
DTSTART;TZID=America/New_York:20220512T050000
DTEND;TZID=America/New_York:20220512T074500
DTSTAMP:20260423T181210
CREATED:20211214T163610Z
LAST-MODIFIED:20211214T163610Z
UID:6760-1652331600-1652341500@pumcfortmill.org
SUMMARY:Camp Gladiator
DESCRIPTION:
URL:https://pumcfortmill.org/event/camp-gladiator-74/
LOCATION:SC
CATEGORIES:PUMC Guest Evemt
END:VEVENT
BEGIN:VEVENT
DTSTART;TZID=America/New_York:20220511T090000
DTEND;TZID=America/New_York:20220511T143000
DTSTAMP:20260423T181210
CREATED:20211214T163610Z
LAST-MODIFIED:20211214T163610Z
UID:6752-1652259600-1652279400@pumcfortmill.org
SUMMARY:LIFE Homeschool
DESCRIPTION:Kelly Caropreso\nkcaropreso@yahoo.com
URL:https://pumcfortmill.org/event/life-homeschool-34/
LOCATION:SC
CATEGORIES:PUMC Guest Evemt
END:VEVENT
END:VCALENDAR