BEGIN:VCALENDAR
VERSION:2.0
PRODID:-//Philadelphia United Methodist Church - ECPv6.15.17.1//NONSGML v1.0//EN
CALSCALE:GREGORIAN
METHOD:PUBLISH
X-WR-CALNAME:Philadelphia United Methodist Church
X-ORIGINAL-URL:https://pumcfortmill.org
X-WR-CALDESC:Events for Philadelphia United Methodist Church
REFRESH-INTERVAL;VALUE=DURATION:PT1H
X-Robots-Tag:noindex
X-PUBLISHED-TTL:PT1H
BEGIN:VTIMEZONE
TZID:America/New_York
BEGIN:DAYLIGHT
TZOFFSETFROM:-0500
TZOFFSETTO:-0400
TZNAME:EDT
DTSTART:20200308T070000
END:DAYLIGHT
BEGIN:STANDARD
TZOFFSETFROM:-0400
TZOFFSETTO:-0500
TZNAME:EST
DTSTART:20201101T060000
END:STANDARD
BEGIN:DAYLIGHT
TZOFFSETFROM:-0500
TZOFFSETTO:-0400
TZNAME:EDT
DTSTART:20210314T070000
END:DAYLIGHT
BEGIN:STANDARD
TZOFFSETFROM:-0400
TZOFFSETTO:-0500
TZNAME:EST
DTSTART:20211107T060000
END:STANDARD
BEGIN:DAYLIGHT
TZOFFSETFROM:-0500
TZOFFSETTO:-0400
TZNAME:EDT
DTSTART:20220313T070000
END:DAYLIGHT
BEGIN:STANDARD
TZOFFSETFROM:-0400
TZOFFSETTO:-0500
TZNAME:EST
DTSTART:20221106T060000
END:STANDARD
BEGIN:DAYLIGHT
TZOFFSETFROM:-0500
TZOFFSETTO:-0400
TZNAME:EDT
DTSTART:20230312T070000
END:DAYLIGHT
BEGIN:STANDARD
TZOFFSETFROM:-0400
TZOFFSETTO:-0500
TZNAME:EST
DTSTART:20231105T060000
END:STANDARD
END:VTIMEZONE
BEGIN:VEVENT
DTSTART;TZID=America/New_York:20220401T094500
DTEND;TZID=America/New_York:20220401T110000
DTSTAMP:20260423T034505
CREATED:20220223T214317Z
LAST-MODIFIED:20220323T160650Z
UID:9360-1648806300-1648810800@pumcfortmill.org
SUMMARY:Ladies Bible Study
DESCRIPTION:We examine various books throughout the year to help us grow in the word of God. Through fellowship and study\, we seek to walk closer with God. Ladies of all ages are invited.
URL:https://pumcfortmill.org/event/ladies-bible-study-8-2022-04-01/
LOCATION:PUMC Disciples Classroom\, 1691 Hwy 160 West\, Fort Mill\, South Carolina\, 29708
CATEGORIES:Event,Life Group
ATTACH;FMTTYPE=image/jpeg:https://pumcfortmill.org/wp-content/uploads/2022/02/86-864587_ladies-bible-study-custom-listing-for-oceana.png.jpeg
ORGANIZER;CN="Linda Jacoby":MAILTO:barklin@aol.com
END:VEVENT
BEGIN:VEVENT
DTSTART;TZID=America/New_York:20220630T050000
DTEND;TZID=America/New_York:20220630T074500
DTSTAMP:20260423T034505
CREATED:20220124T153326Z
LAST-MODIFIED:20220124T153326Z
UID:8005-1656565200-1656575100@pumcfortmill.org
SUMMARY:Camp Gladiator
DESCRIPTION:
URL:https://pumcfortmill.org/event/camp-gladiator-95/
LOCATION:SC
CATEGORIES:PUMC Guest Evemt
END:VEVENT
BEGIN:VEVENT
DTSTART;TZID=America/New_York:20220629T050000
DTEND;TZID=America/New_York:20220629T074500
DTSTAMP:20260423T034505
CREATED:20220124T153326Z
LAST-MODIFIED:20220124T153326Z
UID:7959-1656478800-1656488700@pumcfortmill.org
SUMMARY:Camp Gladiator
DESCRIPTION:
URL:https://pumcfortmill.org/event/camp-gladiator-94/
LOCATION:SC
CATEGORIES:PUMC Guest Evemt
END:VEVENT
BEGIN:VEVENT
DTSTART;TZID=America/New_York:20220627T050000
DTEND;TZID=America/New_York:20220627T074500
DTSTAMP:20260423T034505
CREATED:20220119T154402Z
LAST-MODIFIED:20220119T154402Z
UID:7917-1656306000-1656315900@pumcfortmill.org
SUMMARY:Camp Gladiator
DESCRIPTION:
URL:https://pumcfortmill.org/event/camp-gladiator-93/
LOCATION:SC
CATEGORIES:PUMC Guest Evemt
END:VEVENT
BEGIN:VEVENT
DTSTART;TZID=America/New_York:20220626T133000
DTEND;TZID=America/New_York:20220626T150000
DTSTAMP:20260423T034505
CREATED:20220607T225913Z
LAST-MODIFIED:20220607T225914Z
UID:12585-1656250200-1656255600@pumcfortmill.org
SUMMARY:Church Council Meeting
DESCRIPTION:The Church Council is the body entrusted by the Charge Conference to envision\, plan\, implement\, and annually evaluate the missions and ministries of PUMC including programs of nurture\, outreach\, witness\, and stewardship. Both chairs of PUMC committees and staff serve on Church Council. Meetings are open to anyone within the church.  \n\n\n\nOur Mission: To make Disciples of Jesus Christ for the transformation of the world by Worshiping in Love\, Growing in Love\, and Serving in Love.
URL:https://pumcfortmill.org/event/church-council-meeting/
LOCATION:Philadelphia United Methodist Church\, 1691 Hwy. 160 W\, Fort Mill\, SC\, 29708\, United States
CATEGORIES:Meetings
END:VEVENT
BEGIN:VEVENT
DTSTART;TZID=America/New_York:20220401T094500
DTEND;TZID=America/New_York:20220401T110000
DTSTAMP:20260423T034505
CREATED:20220223T214317Z
LAST-MODIFIED:20220323T160650Z
UID:9360-1648806300-1648810800@pumcfortmill.org
SUMMARY:Ladies Bible Study
DESCRIPTION:We examine various books throughout the year to help us grow in the word of God. Through fellowship and study\, we seek to walk closer with God. Ladies of all ages are invited.
URL:https://pumcfortmill.org/event/ladies-bible-study-8-2022-04-01/
LOCATION:PUMC Disciples Classroom\, 1691 Hwy 160 West\, Fort Mill\, South Carolina\, 29708
CATEGORIES:Event,Life Group
ATTACH;FMTTYPE=image/jpeg:https://pumcfortmill.org/wp-content/uploads/2022/02/86-864587_ladies-bible-study-custom-listing-for-oceana.png.jpeg
ORGANIZER;CN="Linda Jacoby":MAILTO:barklin@aol.com
END:VEVENT
BEGIN:VEVENT
DTSTART;TZID=America/New_York:20220624T090000
DTEND;TZID=America/New_York:20220624T123000
DTSTAMP:20260423T034505
CREATED:20220119T154337Z
LAST-MODIFIED:20220119T154337Z
UID:7893-1656061200-1656073800@pumcfortmill.org
SUMMARY:VBS Clean-up
DESCRIPTION:
URL:https://pumcfortmill.org/event/vbs-clean-up/
LOCATION:SC
END:VEVENT
BEGIN:VEVENT
DTSTART;TZID=America/New_York:20220623T050000
DTEND;TZID=America/New_York:20220623T074500
DTSTAMP:20260423T034505
CREATED:20220119T154402Z
LAST-MODIFIED:20220119T154402Z
UID:7866-1655960400-1655970300@pumcfortmill.org
SUMMARY:Camp Gladiator
DESCRIPTION:
URL:https://pumcfortmill.org/event/camp-gladiator-92/
LOCATION:SC
CATEGORIES:PUMC Guest Evemt
END:VEVENT
BEGIN:VEVENT
DTSTART;TZID=America/New_York:20220622T050000
DTEND;TZID=America/New_York:20220622T074500
DTSTAMP:20260423T034505
CREATED:20220119T154402Z
LAST-MODIFIED:20220119T154402Z
UID:7844-1655874000-1655883900@pumcfortmill.org
SUMMARY:Camp Gladiator
DESCRIPTION:
URL:https://pumcfortmill.org/event/camp-gladiator-91/
LOCATION:SC
CATEGORIES:PUMC Guest Evemt
END:VEVENT
BEGIN:VEVENT
DTSTART;TZID=America/New_York:20220620T093000
DTEND;TZID=America/New_York:20220623T114500
DTSTAMP:20260423T034505
CREATED:20220119T154337Z
LAST-MODIFIED:20220119T154337Z
UID:7839-1655717400-1655984700@pumcfortmill.org
SUMMARY:Vacation Bible School
DESCRIPTION:
URL:https://pumcfortmill.org/event/vacation-bible-school/
LOCATION:SC
END:VEVENT
BEGIN:VEVENT
DTSTART;TZID=America/New_York:20220620T050000
DTEND;TZID=America/New_York:20220620T074500
DTSTAMP:20260423T034505
CREATED:20220119T154402Z
LAST-MODIFIED:20220119T154402Z
UID:7805-1655701200-1655711100@pumcfortmill.org
SUMMARY:Camp Gladiator
DESCRIPTION:
URL:https://pumcfortmill.org/event/camp-gladiator-90/
LOCATION:SC
CATEGORIES:PUMC Guest Evemt
END:VEVENT
BEGIN:VEVENT
DTSTART;TZID=America/New_York:20220618T113000
DTEND;TZID=America/New_York:20220618T130000
DTSTAMP:20260423T034505
CREATED:20220607T223928Z
LAST-MODIFIED:20220607T224109Z
UID:12573-1655551800-1655557200@pumcfortmill.org
SUMMARY:Single Ladies' Lunch Bunch
DESCRIPTION:Meet at Salmeri’s Italian Kitchen\, 526-104 Mercantile Place (across from Captain Steve’s). If you are a single lady and would like to gather with friends for fellowship and good food\, please join us. Contact Donna Schaefer at nordon50@aol.com if you have any questions.
URL:https://pumcfortmill.org/event/single-ladies-lunch-bunch/
LOCATION:Philadelphia United Methodist Church\, 1691 Hwy. 160 W\, Fort Mill\, SC\, 29708\, United States
CATEGORIES:Event,Life Group,Nurture
ATTACH;FMTTYPE=image/jpeg:https://pumcfortmill.org/wp-content/uploads/2022/01/Lunch-Bunch-Banner-e1642975628226.jpg
END:VEVENT
BEGIN:VEVENT
DTSTART;TZID=America/New_York:20220618T080000
DTEND;TZID=America/New_York:20220618T203000
DTSTAMP:20260423T034505
CREATED:20220119T154337Z
LAST-MODIFIED:20220119T154337Z
UID:7759-1655539200-1655584200@pumcfortmill.org
SUMMARY:VBS Set Up
DESCRIPTION:
URL:https://pumcfortmill.org/event/vbs-set-up-4/
LOCATION:SC
END:VEVENT
BEGIN:VEVENT
DTSTART;TZID=America/New_York:20220401T094500
DTEND;TZID=America/New_York:20220401T110000
DTSTAMP:20260423T034505
CREATED:20220223T214317Z
LAST-MODIFIED:20220323T160650Z
UID:9360-1648806300-1648810800@pumcfortmill.org
SUMMARY:Ladies Bible Study
DESCRIPTION:We examine various books throughout the year to help us grow in the word of God. Through fellowship and study\, we seek to walk closer with God. Ladies of all ages are invited.
URL:https://pumcfortmill.org/event/ladies-bible-study-8-2022-04-01/
LOCATION:PUMC Disciples Classroom\, 1691 Hwy 160 West\, Fort Mill\, South Carolina\, 29708
CATEGORIES:Event,Life Group
ATTACH;FMTTYPE=image/jpeg:https://pumcfortmill.org/wp-content/uploads/2022/02/86-864587_ladies-bible-study-custom-listing-for-oceana.png.jpeg
ORGANIZER;CN="Linda Jacoby":MAILTO:barklin@aol.com
END:VEVENT
BEGIN:VEVENT
DTSTART;TZID=America/New_York:20220616T050000
DTEND;TZID=America/New_York:20220616T074500
DTSTAMP:20260423T034505
CREATED:20220119T154402Z
LAST-MODIFIED:20220119T154402Z
UID:7729-1655355600-1655365500@pumcfortmill.org
SUMMARY:Camp Gladiator
DESCRIPTION:
URL:https://pumcfortmill.org/event/camp-gladiator-89/
LOCATION:SC
CATEGORIES:PUMC Guest Evemt
END:VEVENT
BEGIN:VEVENT
DTSTART;TZID=America/New_York:20220615T050000
DTEND;TZID=America/New_York:20220615T074500
DTSTAMP:20260423T034506
CREATED:20220112T161150Z
LAST-MODIFIED:20220112T161150Z
UID:7707-1655269200-1655279100@pumcfortmill.org
SUMMARY:Camp Gladiator
DESCRIPTION:
URL:https://pumcfortmill.org/event/camp-gladiator-88/
LOCATION:SC
CATEGORIES:PUMC Guest Evemt
END:VEVENT
BEGIN:VEVENT
DTSTART;TZID=America/New_York:20220614T183000
DTEND;TZID=America/New_York:20220614T200000
DTSTAMP:20260423T034506
CREATED:20220607T224933Z
LAST-MODIFIED:20220607T225031Z
UID:12577-1655231400-1655236800@pumcfortmill.org
SUMMARY:Men's Fellowship Dinner
DESCRIPTION:Join us in the Fellowship Hall for a meal together. Meet other men of the church and learn about our  upcoming Retreat at Asbury Hills (September 9-11th).
URL:https://pumcfortmill.org/event/mens-fellowship-dinner/
LOCATION:Philadelphia United Methodist Church\, 1691 Hwy. 160 W\, Fort Mill\, SC\, 29708\, United States
CATEGORIES:Event,Life Group,UMM
ATTACH;FMTTYPE=image/jpeg:https://pumcfortmill.org/wp-content/uploads/2022/06/FELLOWSHIPthumb-e1654642130877.jpg
ORGANIZER;CN="Bill Ray":MAILTO:billnoneray@yahoo.com
END:VEVENT
BEGIN:VEVENT
DTSTART;TZID=America/New_York:20220315T183000
DTEND;TZID=America/New_York:20220315T200000
DTSTAMP:20260423T034506
CREATED:20210908T225046Z
LAST-MODIFIED:20220226T153600Z
UID:4927-1647369000-1647374400@pumcfortmill.org
SUMMARY:Ruth Adkins Circle
DESCRIPTION:Ruth Adkins Circle (RAC) is a women’s circle within the United Methodist Women. Circles are smaller groups that allow women to meet on a regular basis to learn about their faith\, share life’s joys and sorrows and commit to service projects. RAC women work both inside and outside the home and most have children still in school. We host the Pancake Packing Party for Operation Christmas Child and Graduation Celebration each year. Our meeting locations vary between member’s homes and restaurants. Contact Cindi Cahaly for meeting location.
URL:https://pumcfortmill.org/event/ruth-adkins-circle-2022-03-18-2022-03-18/
LOCATION:Philadelphia United Methodist Church\, 1691 Hwy. 160 W\, Fort Mill\, SC\, 29708\, United States
CATEGORIES:Life Group,UMW
ORGANIZER;CN="Cindi Cahaly":MAILTO:cahaly@comporium.net
END:VEVENT
BEGIN:VEVENT
DTSTART;TZID=America/New_York:20220614T091500
DTEND;TZID=America/New_York:20220614T133000
DTSTAMP:20260423T034506
CREATED:20220510T181509Z
LAST-MODIFIED:20220607T221047Z
UID:8837-1655198100-1655213400@pumcfortmill.org
SUMMARY:Senior Friends
DESCRIPTION:Those 65+ years young are invited to come the 2nd Tuesday of the month for lunch. Here’s a list of our activities for the rest of 2022. Please contact Caroline Helms cdhelms1@yahoo.com to get involved! \nJune 14th – Meet in the parking lot at 9:15am to carpool to Landsford Cannel to see the lilies. Bring your own picnic lunch. Entry to park is $3.75.  \nJuly 12 – Music /Singing? Covered DishAugust 9 – Talent Program – Covered DishSeptember 13 – Covererd DishOctober 11 – Apples / Out to EatNovember 8 – Out to Eat – ThanksgivingDecember 13 – Christmas Party – Party Foods
URL:https://pumcfortmill.org/event/senior-friends/
LOCATION:SC
CATEGORIES:Event,Life Group,Nurture
ATTACH;FMTTYPE=image/jpeg:https://pumcfortmill.org/wp-content/uploads/2021/09/seniorfriends.jpg
ORGANIZER;CN="Caroline Helms":MAILTO:cdhelms1@yahoo.com
END:VEVENT
BEGIN:VEVENT
DTSTART;TZID=America/New_York:20220614T060000
DTEND;TZID=America/New_York:20220614T203000
DTSTAMP:20260423T034506
CREATED:20220216T000010Z
LAST-MODIFIED:20220223T230353Z
UID:8835-1655186400-1655238600@pumcfortmill.org
SUMMARY:Statewide Primary
DESCRIPTION:
URL:https://pumcfortmill.org/event/statewide-primary/
LOCATION:SC
END:VEVENT
BEGIN:VEVENT
DTSTART;TZID=America/New_York:20220613T080000
DTEND;TZID=America/New_York:20220617T203000
DTSTAMP:20260423T034506
CREATED:20220119T154337Z
LAST-MODIFIED:20220119T154337Z
UID:7732-1655107200-1655497800@pumcfortmill.org
SUMMARY:VBS Set Up
DESCRIPTION:
URL:https://pumcfortmill.org/event/vbs-set-up-3/
LOCATION:SC
END:VEVENT
BEGIN:VEVENT
DTSTART;TZID=America/New_York:20220613T050000
DTEND;TZID=America/New_York:20220613T074500
DTSTAMP:20260423T034506
CREATED:20220111T153320Z
LAST-MODIFIED:20220111T153320Z
UID:7668-1655096400-1655106300@pumcfortmill.org
SUMMARY:Camp Gladiator
DESCRIPTION:
URL:https://pumcfortmill.org/event/camp-gladiator-87/
LOCATION:SC
END:VEVENT
BEGIN:VEVENT
DTSTART;TZID=America/New_York:20220612T080000
DTEND;TZID=America/New_York:20220612T203000
DTSTAMP:20260423T034506
CREATED:20220111T153320Z
LAST-MODIFIED:20220111T153320Z
UID:7665-1655020800-1655065800@pumcfortmill.org
SUMMARY:VBS Set-up
DESCRIPTION:
URL:https://pumcfortmill.org/event/vbs-set-up-2/
LOCATION:SC
END:VEVENT
BEGIN:VEVENT
DTSTART;TZID=America/New_York:20220611T080000
DTEND;TZID=America/New_York:20220611T083000
DTSTAMP:20260423T034506
CREATED:20220104T162032Z
LAST-MODIFIED:20220104T162032Z
UID:7360-1654934400-1654936200@pumcfortmill.org
SUMMARY:VBS Set-up
DESCRIPTION:
URL:https://pumcfortmill.org/event/vbs-set-up/
LOCATION:SC
END:VEVENT
BEGIN:VEVENT
DTSTART;TZID=America/New_York:20210813T100000
DTEND;TZID=America/New_York:20210813T113000
DTSTAMP:20260423T034506
CREATED:20210715T151457Z
LAST-MODIFIED:20220108T173246Z
UID:4320-1628848800-1628854200@pumcfortmill.org
SUMMARY:Friends In Christ
DESCRIPTION:Friends In Christ (FIC) is a women’s circle within the United Methodist Women. Circles are smaller groups that allow women to meet on a regular basis to learn about their faith\, share life’s joys and sorrows and commit to service projects. Most ladies are empty nesters. FIC prides itself on sending cards and keeping up with those who are ill. We also host the Christmas Cookie Sale which raises funds for local missions supporting women\, youth and children. Drop in on any meeting or contact Marion Kettles\, mjkettles@hotmail.com with any questions.
URL:https://pumcfortmill.org/event/friends-in-christ/
LOCATION:Philadelphia United Methodist Church\, 1691 Highway 160 West\, Fort Mill\, South Carolina\, 29708\, United States
CATEGORIES:Event,Life Group,UMW
ATTACH;FMTTYPE=image/png:https://pumcfortmill.org/wp-content/uploads/2021/07/UMW-logo.png
END:VEVENT
BEGIN:VEVENT
DTSTART;TZID=America/New_York:20220609T050000
DTEND;TZID=America/New_York:20220609T074500
DTSTAMP:20260423T034506
CREATED:20220104T161926Z
LAST-MODIFIED:20220104T161926Z
UID:7351-1654750800-1654760700@pumcfortmill.org
SUMMARY:Camp Gladiator
DESCRIPTION:
URL:https://pumcfortmill.org/event/camp-gladiator-86/
LOCATION:SC
CATEGORIES:PUMC Guest Evemt
END:VEVENT
BEGIN:VEVENT
DTSTART;TZID=America/New_York:20220608T050000
DTEND;TZID=America/New_York:20220608T074500
DTSTAMP:20260423T034506
CREATED:20220104T161926Z
LAST-MODIFIED:20220104T161926Z
UID:7332-1654664400-1654674300@pumcfortmill.org
SUMMARY:Camp Gladiator
DESCRIPTION:
URL:https://pumcfortmill.org/event/camp-gladiator-85/
LOCATION:SC
CATEGORIES:PUMC Guest Evemt
END:VEVENT
BEGIN:VEVENT
DTSTART;TZID=America/New_York:20220606T050000
DTEND;TZID=America/New_York:20220606T074500
DTSTAMP:20260423T034506
CREATED:20220104T161926Z
LAST-MODIFIED:20220104T161926Z
UID:7240-1654491600-1654501500@pumcfortmill.org
SUMMARY:Camp Gladiator
DESCRIPTION:
URL:https://pumcfortmill.org/event/camp-gladiator-84/
LOCATION:SC
CATEGORIES:PUMC Guest Evemt
END:VEVENT
BEGIN:VEVENT
DTSTART;TZID=America/New_York:20220603T170000
DTEND;TZID=America/New_York:20220603T213000
DTSTAMP:20260423T034506
CREATED:20220104T161926Z
LAST-MODIFIED:20220104T161926Z
UID:7214-1654275600-1654291800@pumcfortmill.org
SUMMARY:TKA Jewish Service
DESCRIPTION:Alan Reznik\n704.579.1772
URL:https://pumcfortmill.org/event/tka-jewish-service-12/
LOCATION:SC
CATEGORIES:PUMC Guest Evemt
END:VEVENT
BEGIN:VEVENT
DTSTART;TZID=America/New_York:20220401T094500
DTEND;TZID=America/New_York:20220401T110000
DTSTAMP:20260423T034506
CREATED:20220223T214317Z
LAST-MODIFIED:20220323T160650Z
UID:9360-1648806300-1648810800@pumcfortmill.org
SUMMARY:Ladies Bible Study
DESCRIPTION:We examine various books throughout the year to help us grow in the word of God. Through fellowship and study\, we seek to walk closer with God. Ladies of all ages are invited.
URL:https://pumcfortmill.org/event/ladies-bible-study-8-2022-04-01/
LOCATION:PUMC Disciples Classroom\, 1691 Hwy 160 West\, Fort Mill\, South Carolina\, 29708
CATEGORIES:Event,Life Group
ATTACH;FMTTYPE=image/jpeg:https://pumcfortmill.org/wp-content/uploads/2022/02/86-864587_ladies-bible-study-custom-listing-for-oceana.png.jpeg
ORGANIZER;CN="Linda Jacoby":MAILTO:barklin@aol.com
END:VEVENT
END:VCALENDAR