BEGIN:VCALENDAR
VERSION:2.0
PRODID:-//Philadelphia United Methodist Church - ECPv6.15.17.1//NONSGML v1.0//EN
CALSCALE:GREGORIAN
METHOD:PUBLISH
X-ORIGINAL-URL:https://pumcfortmill.org
X-WR-CALDESC:Events for Philadelphia United Methodist Church
REFRESH-INTERVAL;VALUE=DURATION:PT1H
X-Robots-Tag:noindex
X-PUBLISHED-TTL:PT1H
BEGIN:VTIMEZONE
TZID:America/New_York
BEGIN:DAYLIGHT
TZOFFSETFROM:-0500
TZOFFSETTO:-0400
TZNAME:EDT
DTSTART:20210314T070000
END:DAYLIGHT
BEGIN:STANDARD
TZOFFSETFROM:-0400
TZOFFSETTO:-0500
TZNAME:EST
DTSTART:20211107T060000
END:STANDARD
BEGIN:DAYLIGHT
TZOFFSETFROM:-0500
TZOFFSETTO:-0400
TZNAME:EDT
DTSTART:20220313T070000
END:DAYLIGHT
BEGIN:STANDARD
TZOFFSETFROM:-0400
TZOFFSETTO:-0500
TZNAME:EST
DTSTART:20221106T060000
END:STANDARD
BEGIN:DAYLIGHT
TZOFFSETFROM:-0500
TZOFFSETTO:-0400
TZNAME:EDT
DTSTART:20230312T070000
END:DAYLIGHT
BEGIN:STANDARD
TZOFFSETFROM:-0400
TZOFFSETTO:-0500
TZNAME:EST
DTSTART:20231105T060000
END:STANDARD
BEGIN:DAYLIGHT
TZOFFSETFROM:-0500
TZOFFSETTO:-0400
TZNAME:EDT
DTSTART:20240310T070000
END:DAYLIGHT
BEGIN:STANDARD
TZOFFSETFROM:-0400
TZOFFSETTO:-0500
TZNAME:EST
DTSTART:20241103T060000
END:STANDARD
BEGIN:DAYLIGHT
TZOFFSETFROM:-0500
TZOFFSETTO:-0400
TZNAME:EDT
DTSTART:20250309T070000
END:DAYLIGHT
BEGIN:STANDARD
TZOFFSETFROM:-0400
TZOFFSETTO:-0500
TZNAME:EST
DTSTART:20251102T060000
END:STANDARD
END:VTIMEZONE
BEGIN:VEVENT
DTSTART;TZID=America/New_York:20240519T120000
DTEND;TZID=America/New_York:20240519T130000
DTSTAMP:20260421T180827
CREATED:20240503T165728Z
LAST-MODIFIED:20240503T170509Z
UID:45298-1716120000-1716123600@pumcfortmill.org
SUMMARY:Graduation Celebration
DESCRIPTION:Personally congratulate our graduates during the cupcake reception in the Fellowship Hall immediately following the 11am service.
URL:https://pumcfortmill.org/event/graduation-celebration-2/
LOCATION:PUMC Fellowship Hall\, 1691 Hwy. 160 W\, Fort Mill\, 29708\, United States
CATEGORIES:Event,UMW,Worship,Youth
ATTACH;FMTTYPE=image/jpeg:https://pumcfortmill.org/wp-content/uploads/2024/05/istockphoto-1481111578-612x612-1.jpg
ORGANIZER;CN="Cindi Cahaly":MAILTO:cahaly@comporium.net
END:VEVENT
BEGIN:VEVENT
DTSTART;TZID=America/New_York:20240519T110000
DTEND;TZID=America/New_York:20240519T120000
DTSTAMP:20260421T180827
CREATED:20240425T010853Z
LAST-MODIFIED:20240430T141255Z
UID:44366-1716116400-1716120000@pumcfortmill.org
SUMMARY:Youth Sunday
DESCRIPTION:Join us for a special Pentecost Sunday where our youth share their talents with us through music\, worship and the word. We will also recognize our 2024 graduates. You are encouraged to wear red as we commemorate the decent of the Holy Spirit on the disciples and apostles.
URL:https://pumcfortmill.org/event/youth-sunday-2/
LOCATION:Philadelphia United Methodist Church\, 1691 Hwy. 160 W\, Fort Mill\, SC\, 29708\, United States
CATEGORIES:Worship,Youth
ATTACH;FMTTYPE=image/jpeg:https://pumcfortmill.org/wp-content/uploads/2022/04/youth-sunday-image-orig_orig.jpg
END:VEVENT
BEGIN:VEVENT
DTSTART;TZID=America/New_York:20240428T090000
DTEND;TZID=America/New_York:20240428T100000
DTSTAMP:20260421T180827
CREATED:20240425T164902Z
LAST-MODIFIED:20240425T164903Z
UID:44457-1714294800-1714298400@pumcfortmill.org
SUMMARY:Children's Music Program
DESCRIPTION:Join us for a special day of worship! \n\n\n\nWe have 4 different children and youth groups worshipping God through songs and music.
URL:https://pumcfortmill.org/event/childrens-music-program/
LOCATION:Philadelphia United Methodist Church\, 1691 Hwy. 160 W\, Fort Mill\, SC\, 29708\, United States
CATEGORIES:Children's Event,Event,Youth
ATTACH;FMTTYPE=image/jpeg:https://pumcfortmill.org/wp-content/uploads/2024/04/438741414_833383375491712_6116566322244019307_n-002-2.jpg
END:VEVENT
BEGIN:VEVENT
DTSTART;TZID=America/New_York:20240428T090000
DTEND;TZID=America/New_York:20240428T100000
DTSTAMP:20260421T180827
CREATED:20240425T164902Z
LAST-MODIFIED:20240425T164903Z
UID:44457-1714294800-1714298400@pumcfortmill.org
SUMMARY:Children's Music Program
DESCRIPTION:Join us for a special day of worship! \n\n\n\nWe have 4 different children and youth groups worshipping God through songs and music.
URL:https://pumcfortmill.org/event/childrens-music-program/
LOCATION:Philadelphia United Methodist Church\, 1691 Hwy. 160 W\, Fort Mill\, SC\, 29708\, United States
CATEGORIES:Children's Event,Event,Youth
ATTACH;FMTTYPE=image/jpeg:https://pumcfortmill.org/wp-content/uploads/2024/04/438741414_833383375491712_6116566322244019307_n-002-2.jpg
END:VEVENT
BEGIN:VEVENT
DTSTART;TZID=America/New_York:20240414T160000
DTEND;TZID=America/New_York:20240414T190000
DTSTAMP:20260421T180827
CREATED:20240327T175124Z
LAST-MODIFIED:20240327T175425Z
UID:41488-1713110400-1713121200@pumcfortmill.org
SUMMARY:Adopt-A-Stream Clean Up
DESCRIPTION:Philadelphia Youth Group has adopted a section of a Fort Mill Stream to assist in keeping our waterways clean!  \n\n\n\nIf you would like to assist\, please contact our Youth Group Director\, Jessica Inman.
URL:https://pumcfortmill.org/event/adopt-a-stream-clean-up/
LOCATION:SC
CATEGORIES:Life Group,Meetings,Youth
ATTACH;FMTTYPE=image/png:https://pumcfortmill.org/wp-content/uploads/2024/03/adopt.png
ORGANIZER;CN="Jessica Inman":MAILTO:jessica@pumcfortmill.org
END:VEVENT
BEGIN:VEVENT
DTSTART;TZID=America/New_York:20240323T150000
DTEND;TZID=America/New_York:20240323T170000
DTSTAMP:20260421T180827
CREATED:20240227T024607Z
LAST-MODIFIED:20240314T015402Z
UID:38419-1711206000-1711213200@pumcfortmill.org
SUMMARY:Easter Game Day
DESCRIPTION:Join us for Easter Game Day on Saturday\, March 23rd from 3:00-5:00pm. Games\, Easter Story\, Snacks\, Chick fil A\, and an Egg Hunt.  \n\n\n\nRegistration is required. \n\n\n\n\nSign Up
URL:https://pumcfortmill.org/event/easter-game-day/
LOCATION:Philadelphia United Methodist Church\, 1691 Hwy. 160 W\, Fort Mill\, SC\, 29708\, United States
CATEGORIES:Children's Event,Event,Youth
ATTACH;FMTTYPE=image/png:https://pumcfortmill.org/wp-content/uploads/2024/02/EASTER-GAME-DAY.png
ORGANIZER;CN="Nic":MAILTO:Nicolas@pumcfortmill.org
END:VEVENT
BEGIN:VEVENT
DTSTART;TZID=America/New_York:20240303T110000
DTEND;TZID=America/New_York:20240303T120000
DTSTAMP:20260421T180827
CREATED:20240227T180337Z
LAST-MODIFIED:20240227T181014Z
UID:38495-1709463600-1709467200@pumcfortmill.org
SUMMARY:Sunday School
DESCRIPTION:Sunday school classes are available for all ages! There are 4 adult classes\, youth (6th-12th grade)\, age defined elementary classes\, preschool and nursery. Contact Nicolas Gold\, nicolas@pumcfortmill.org\, for more detailed descriptions and locations or stop by our welcome center in front of the Sanctuary.
URL:https://pumcfortmill.org/event/sunday-school/
LOCATION:Philadelphia United Methodist Church\, 1691 Hwy. 160 W\, Fort Mill\, SC\, 29708\, United States
CATEGORIES:Children's Event,Life Group,Youth
ATTACH;FMTTYPE=image/gif:https://pumcfortmill.org/wp-content/uploads/2022/03/sunday-school-lg-widescreen-1030x579-1-e1648052978757.gif
END:VEVENT
BEGIN:VEVENT
DTSTART;TZID=America/New_York:20240306T180000
DTEND;TZID=America/New_York:20240306T190000
DTSTAMP:20260421T180827
CREATED:20240130T030336Z
LAST-MODIFIED:20240130T030338Z
UID:35570-1709748000-1709751600@pumcfortmill.org
SUMMARY:Mission Wednesday
DESCRIPTION:Youth will be creating care packages and baking cookies for the Golden Angels (homebound) members of PUMC. \n\n\n\nPlease contact Jessica Inman with any questions.
URL:https://pumcfortmill.org/event/mission-wednesday-4/
LOCATION:Philadelphia United Methodist Church\, 1691 Hwy. 160 W\, Fort Mill\, SC\, 29708\, United States
CATEGORIES:Event,Youth
ATTACH;FMTTYPE=image/jpeg:https://pumcfortmill.org/wp-content/uploads/2024/01/Mission-Wed.jpg
ORGANIZER;CN="Jessica Inman":MAILTO:jessica@pumcfortmill.org
END:VEVENT
BEGIN:VEVENT
DTSTART;TZID=America/New_York:20240303T110000
DTEND;TZID=America/New_York:20240303T120000
DTSTAMP:20260421T180827
CREATED:20240227T180337Z
LAST-MODIFIED:20240227T181014Z
UID:38495-1709463600-1709467200@pumcfortmill.org
SUMMARY:Sunday School
DESCRIPTION:Sunday school classes are available for all ages! There are 4 adult classes\, youth (6th-12th grade)\, age defined elementary classes\, preschool and nursery. Contact Nicolas Gold\, nicolas@pumcfortmill.org\, for more detailed descriptions and locations or stop by our welcome center in front of the Sanctuary.
URL:https://pumcfortmill.org/event/sunday-school/
LOCATION:Philadelphia United Methodist Church\, 1691 Hwy. 160 W\, Fort Mill\, SC\, 29708\, United States
CATEGORIES:Children's Event,Life Group,Youth
ATTACH;FMTTYPE=image/gif:https://pumcfortmill.org/wp-content/uploads/2022/03/sunday-school-lg-widescreen-1030x579-1-e1648052978757.gif
END:VEVENT
BEGIN:VEVENT
DTSTART;TZID=America/New_York:20240221T180000
DTEND;TZID=America/New_York:20240221T190000
DTSTAMP:20260421T180827
CREATED:20240130T030522Z
LAST-MODIFIED:20240130T030524Z
UID:35572-1708538400-1708542000@pumcfortmill.org
SUMMARY:Mission Wednesday
DESCRIPTION:Youth will be making a variety of dog toys from t-shirts to donate to local shelters and rescues. \n\n\n\nPlease contact Jessica Inman with any questions.
URL:https://pumcfortmill.org/event/mission-wednesday-5/
LOCATION:Philadelphia United Methodist Church\, 1691 Hwy. 160 W\, Fort Mill\, SC\, 29708\, United States
CATEGORIES:Event,Youth
ATTACH;FMTTYPE=image/jpeg:https://pumcfortmill.org/wp-content/uploads/2024/01/Mission-Wed-2.jpg
ORGANIZER;CN="Jessica Inman":MAILTO:jessica@pumcfortmill.org
END:VEVENT
BEGIN:VEVENT
DTSTART;TZID=America/New_York:20240217T173000
DTEND;TZID=America/New_York:20240217T193000
DTSTAMP:20260421T180827
CREATED:20231209T025056Z
LAST-MODIFIED:20240223T213345Z
UID:30159-1708191000-1708198200@pumcfortmill.org
SUMMARY:Daddy Daughter Sweetheart Ball
DESCRIPTION:*Registration is required* \n\n\n\nJoin us for a Daddy-Daughter Sweetheart Ball! Dads\, Grandpas\, Uncles\, or any father figure are welcome as an escort. Enjoy an enchanted evening of music\, dancing\, photo ops\, Chick-fil-A nuggets\, and fun as you and your daughter create a special memory that will last a lifetime. \n\n\n\nWHERE: The Ball will be held at Philadelphia Church at 1691 Hwy. 160 W. Fort Mill\, SC 29708 \n\n\n\nCOST: $10 per Daddy/Daughter pair + $5 for additional Daughter. Age 2 through 5th Grade. \n\n\n\nWHEN: Can’t wait to see you on Saturday\, February 17th at 5:30 pm for the Daddy-Daughter Sweetheart Dance. \n\n\n\nDads\, wear your favorite tie. Daughters\, wear your prettiest dress. \n\n\n\nPlease email Nicolas if you have questions. \n\n\n\n\nRegister Now
URL:https://pumcfortmill.org/event/30159/
LOCATION:SC
CATEGORIES:Children's Event,Event,Youth
ATTACH;FMTTYPE=image/png:https://pumcfortmill.org/wp-content/uploads/2023/12/Daddy-Daughter-Sweetheart-Ball.png
ORGANIZER;CN="Nic":MAILTO:Nicolas@pumcfortmill.org
END:VEVENT
BEGIN:VEVENT
DTSTART;TZID=America/New_York:20240207T180000
DTEND;TZID=America/New_York:20240207T190000
DTSTAMP:20260421T180827
CREATED:20240130T025820Z
LAST-MODIFIED:20240130T030038Z
UID:35560-1707328800-1707332400@pumcfortmill.org
SUMMARY:Mission Wednesday
DESCRIPTION:Youth will be baking muffins for the men that PUMC will be hosting as an overflow site for Bethel Men’s Shelter. \n\n\n\nPlease reach out to Jessica Inman with any questions.
URL:https://pumcfortmill.org/event/mission-wednesday-3/
LOCATION:Philadelphia United Methodist Church\, 1691 Hwy. 160 W\, Fort Mill\, SC\, 29708\, United States
CATEGORIES:Event,Youth
ATTACH;FMTTYPE=image/jpeg:https://pumcfortmill.org/wp-content/uploads/2024/01/Mission-Wed-1.jpg
ORGANIZER;CN="Jessica Inman":MAILTO:jessica@pumcfortmill.org
END:VEVENT
BEGIN:VEVENT
DTSTART;TZID=America/New_York:20240204T170000
DTEND;TZID=America/New_York:20240204T180000
DTSTAMP:20260421T180827
CREATED:20231207T203623Z
LAST-MODIFIED:20231207T204216Z
UID:30017-1707066000-1707069600@pumcfortmill.org
SUMMARY:Chili Cook-Off & Kids' Dessert Bake Off
DESCRIPTION:Everyone is welcome to bring their best chili for everybody to try. Children and youth are invited to participate in the Kids’ Dessert Bake-Off. Everyone who attends can try a sample of each chili and dessert and vote for their favorites! There will be great prizes in both the chili and dessert divisions! \n\n\n\nThis event is free and open to the public so friends can come and enter! \n\n\n\nThere are no judges\, YOU decide. Each person in attendance will get three chili votes and three dessert votes. We can’t wait to see you there! \n\n\n\nPlease register with your name\, email address\, and the name of your chili or dessert. More details will be sent to you. Questions? Contact Nic. \n\n\n\n\nSign-Up
URL:https://pumcfortmill.org/event/chili-cook-off-kids-dessert-bake-off/
LOCATION:SC
CATEGORIES:Children's Event,Event,Youth
ATTACH;FMTTYPE=image/png:https://pumcfortmill.org/wp-content/uploads/2023/12/chili-cookoff.png
ORGANIZER;CN="Nic":MAILTO:Nicolas@pumcfortmill.org
END:VEVENT
BEGIN:VEVENT
DTSTART;TZID=America/New_York:20231203T170000
DTEND;TZID=America/New_York:20231203T180000
DTSTAMP:20260421T180827
CREATED:20231103T231439Z
LAST-MODIFIED:20231103T231440Z
UID:28093-1701622800-1701626400@pumcfortmill.org
SUMMARY:Cookies with Santa
DESCRIPTION:Join us Sunday\, December 3rd from 5:00-6:00pm for Cookies with Santa where you can take your picture with Santa and eat cookies.  \n\n\n\nAdmission is a new\, unwrapped toy for needy children in the community. \n\n\n\n RSVP with nicolas@pumcfortmill.org
URL:https://pumcfortmill.org/event/cookies-with-santa-2/
LOCATION:Philadelphia United Methodist Church\, 1691 Hwy. 160 W\, Fort Mill\, SC\, 29708\, United States
CATEGORIES:Children's Event,Event,Youth
ATTACH;FMTTYPE=image/jpeg:https://pumcfortmill.org/wp-content/uploads/2023/11/Cookies-with-Santa-e1699052466884.jpg
ORGANIZER;CN="Nicolas Gold":MAILTO:nicolas@pumcfortmill.org
END:VEVENT
BEGIN:VEVENT
DTSTART;TZID=America/New_York:20231108T163000
DTEND;TZID=America/New_York:20231108T183000
DTSTAMP:20260421T180827
CREATED:20220921T152012Z
LAST-MODIFIED:20231104T031933Z
UID:15501-1699461000-1699468200@pumcfortmill.org
SUMMARY:Pancake Packing Party
DESCRIPTION:Join us in a church wide mission project including fun and fellowship! We’re collecting items (in the Coffee Connections Room) for Operation Christmas Child Shoeboxes the entire month of October!  \n\n\n\nElves will sort the items making it easy for you and your friends to come pack multiple shoeboxes on the 8th.  \n\n\n\nWe’ll also serve a delicious meal of pancakes\, sausage and fruit (dinner starts at 5pm).  \n\n\n\nAll donations will go towards shipping which is $10/box.  \n\n\n\nMonetary donations can be made through the church\, online or by envelope\, please note on the memo line “OCC – shoeboxes”.  \n\n\n\nOur goal is to pack 350 boxes of love! Help us to make this a reality!
URL:https://pumcfortmill.org/event/pancake-packing-party-2/
LOCATION:Philadelphia United Methodist Church\, 1691 Hwy. 160 W\, Fort Mill\, SC\, 29708\, United States
CATEGORIES:Children's Event,Event,Missions,Service,UMW,Youth
ATTACH;FMTTYPE=image/jpeg:https://pumcfortmill.org/wp-content/uploads/2021/05/operation-christmas-child-e1725937187169.jpg
ORGANIZER;CN="Cindy Cahaly":MAILTO:cahaly@comporium.net
END:VEVENT
BEGIN:VEVENT
DTSTART;TZID=America/New_York:20231029T170000
DTEND;TZID=America/New_York:20231029T183000
DTSTAMP:20260421T180827
CREATED:20231003T144053Z
LAST-MODIFIED:20231020T021214Z
UID:26882-1698598800-1698604200@pumcfortmill.org
SUMMARY:Trunk R Treat
DESCRIPTION:The annual Trunk R Treat at Philadelphia Church in Fort Mill is set for Sunday\, October 29th from 5:00-6:30pm. Children\, families\, and everyone else are invited to wear their Halloween costume and receive candy from the decorated trunks. Hot dogs and drinks are free. 
URL:https://pumcfortmill.org/event/trunk-r-treat-4/
LOCATION:Philadelphia United Methodist Church\, 1691 Hwy. 160 W\, Fort Mill\, SC\, 29708\, United States
CATEGORIES:Children's Event,Event,Youth
ATTACH;FMTTYPE=image/png:https://pumcfortmill.org/wp-content/uploads/2023/10/Trunk-or-Treat.png
ORGANIZER;CN="Nicolas Gold":MAILTO:nicolas@pumcfortmill.org
END:VEVENT
BEGIN:VEVENT
DTSTART;TZID=America/New_York:20231023T000000
DTEND;TZID=America/New_York:20231023T235959
DTSTAMP:20260421T180827
CREATED:20231010T182812Z
LAST-MODIFIED:20231020T021322Z
UID:27127-1698019200-1698105599@pumcfortmill.org
SUMMARY:Bethel Men's Night Shelter
DESCRIPTION:The Mission team is providing another opportunity to serve the homeless on Monday October the 23rd.  We will serve 55+ Rock Hill homeless men and support staff at the Bethel Men’s Night Shelter located at 1232 Curtis Street in Rock Hill\, SC.  \n\n\n\nWe will need assistance in providing and preparing dinner items\, managing the kitchen and serving the dinner.  We also have the opportunity to fulfill men’s requests from the Bethel on-site donation center. We continue to collect used devotional materials\, small  bottles and restaurant packaged utensils (need a spoon in the pkg) to put in the breakfast bags. You can place these items in the Coffee Connections Room.  \n\n\n\nAlso new this month\, we have slots for individuals who would like to focus on fellowship and eat with the men. \n\n\n\nFollow the link to the Signup Genius for this event.
URL:https://pumcfortmill.org/event/bethel-mens-night-shelter/
LOCATION:SC
CATEGORIES:Event,Missions,UMM,UMW,Youth
ATTACH;FMTTYPE=image/png:https://pumcfortmill.org/wp-content/uploads/2023/10/September-23-29-Restaurant-Week-September-30-Annual-Drive-Thru-BBQ-Sale-1.png
END:VEVENT
BEGIN:VEVENT
DTSTART;TZID=America/New_York:20231011T180000
DTEND;TZID=America/New_York:20231011T190000
DTSTAMP:20260421T180827
CREATED:20231003T162300Z
LAST-MODIFIED:20231019T192400Z
UID:26909-1697047200-1697050800@pumcfortmill.org
SUMMARY:Mission Wednesday
DESCRIPTION:6th-12th graders will be making paracord lanyards for service members and first responders with Operation Gratitude. Join us in the youth room at the end of the hall in the fellowship wing.
URL:https://pumcfortmill.org/event/mission-wednesday-2/
LOCATION:SC
CATEGORIES:Event,Missions,Youth
ATTACH;FMTTYPE=image/jpeg:https://pumcfortmill.org/wp-content/uploads/2023/09/image0.jpeg
ORGANIZER;CN="Jessica Inman":MAILTO:jessica@pumcfortmill.org
END:VEVENT
BEGIN:VEVENT
DTSTART;TZID=America/New_York:20231007T110000
DTEND;TZID=America/New_York:20231007T150000
DTSTAMP:20260421T180827
CREATED:20220421T192201Z
LAST-MODIFIED:20231003T161903Z
UID:11226-1696676400-1696690800@pumcfortmill.org
SUMMARY:Fall Festival: A Taste of the South
DESCRIPTION:vendors ~ baked goods ~ hot food ~ live music ~ first responder vehicles  ~ games/inflatables ~  clowns touch-a-tractor ~ faith activities ~ hay ride \n\n\n\n\n\nTaste of the South Menu:  \n\n\n\n\nBBQ pork plate\n\n\n\nChicken on a Stick\n\n\n\nFried Fish Sandwich\n\n\n\nDeep Fried Pork Skins\n\n\n\nCorn on the cob\n\n\n\nFresh brewed tea
URL:https://pumcfortmill.org/event/fall-festival-a-taste-of-the-south/
LOCATION:Philadelphia United Methodist Church\, 1691 Hwy. 160 W\, Fort Mill\, SC\, 29708\, United States
CATEGORIES:Children's Event,Evangelism,Event,UMM,UMW,Youth
ATTACH;FMTTYPE=image/jpeg:https://pumcfortmill.org/wp-content/uploads/2018/08/FallFestival-Logo-scaled.jpg
END:VEVENT
BEGIN:VEVENT
DTSTART;TZID=America/New_York:20231001T170000
DTEND;TZID=America/New_York:20231001T183000
DTSTAMP:20260421T180827
CREATED:20230919T041846Z
LAST-MODIFIED:20230919T041847Z
UID:26413-1696179600-1696185000@pumcfortmill.org
SUMMARY:PYG Gathering
DESCRIPTION:It’s week # of our “Going Places” series. We’ll focus on unity through Jesus’ prayer and the words of Paul and David
URL:https://pumcfortmill.org/event/pyg-gathering/
LOCATION:SC
CATEGORIES:Event,Youth
ATTACH;FMTTYPE=image/png:https://pumcfortmill.org/wp-content/uploads/2021/11/pyg-logo.png
ORGANIZER;CN="Jessica Inman":MAILTO:jessica@pumcfortmill.org
END:VEVENT
BEGIN:VEVENT
DTSTART;TZID=America/New_York:20230924T160000
DTEND;TZID=America/New_York:20230924T190000
DTSTAMP:20260421T180827
CREATED:20230919T041215Z
LAST-MODIFIED:20230919T041216Z
UID:26404-1695571200-1695582000@pumcfortmill.org
SUMMARY:Adopt-A-Stream
DESCRIPTION:PYG has adopted a section of a Fort Mill stream to assist in keeping our waterways clean! \n\n\n\nRegistration for this event has closed. Please join us next time!
URL:https://pumcfortmill.org/event/adopt-a-stream/
LOCATION:SC
CATEGORIES:Youth
ATTACH;FMTTYPE=image/jpeg:https://pumcfortmill.org/wp-content/uploads/2023/09/8D79E7F4-657E-4546-B5E2-20DA01057A30.jpeg
ORGANIZER;CN="Jessica Inman":MAILTO:jessica@pumcfortmill.org
END:VEVENT
BEGIN:VEVENT
DTSTART;TZID=America/New_York:20230923T140000
DTEND;TZID=America/New_York:20230923T160000
DTSTAMP:20260421T180827
CREATED:20230915T050143Z
LAST-MODIFIED:20230915T050145Z
UID:26236-1695477600-1695484800@pumcfortmill.org
SUMMARY:Game Afternoon
DESCRIPTION:Everyone is invited for an afternoon of games\, fun\, and light snacks. Take a board game or bring your favorite and sit with your church friends for fun. Please let nicolas@pumfortmill.org know if you plan to attend.
URL:https://pumcfortmill.org/event/game-afternoon/
LOCATION:PUMC Fellowship Hall\, 1691 Hwy. 160 W\, Fort Mill\, 29708\, United States
CATEGORIES:Children's Event,Event,Youth
ATTACH;FMTTYPE=image/jpeg:https://pumcfortmill.org/wp-content/uploads/2023/09/Level1c.jpg
ORGANIZER;CN="Nicolas Gold":MAILTO:nicolas@pumcfortmill.org
END:VEVENT
BEGIN:VEVENT
DTSTART;TZID=America/New_York:20230920T180000
DTEND;TZID=America/New_York:20230920T190000
DTSTAMP:20260421T180827
CREATED:20230919T035822Z
LAST-MODIFIED:20230920T044831Z
UID:26398-1695232800-1695236400@pumcfortmill.org
SUMMARY:Mission Wednesday
DESCRIPTION:Select Wednesdays we will work on mission projects. This week we will be putting together fishing kits and lego scenes for Operation Christmas Child shoeboxes. Come early and eat dinner!
URL:https://pumcfortmill.org/event/mission-wednesday/
LOCATION:SC
CATEGORIES:Event,Youth
ATTACH;FMTTYPE=image/jpeg:https://pumcfortmill.org/wp-content/uploads/2023/09/image0.jpeg
ORGANIZER;CN="Jessica Inman":MAILTO:jessica@pumcfortmill.org
END:VEVENT
BEGIN:VEVENT
DTSTART;TZID=America/New_York:20221105T080000
DTEND;TZID=America/New_York:20221105T123000
DTSTAMP:20260421T180827
CREATED:20221021T140831Z
LAST-MODIFIED:20221021T140833Z
UID:16285-1667635200-1667651400@pumcfortmill.org
SUMMARY:Samaritan's Feet
DESCRIPTION:Join us for a rewarding service project. Families are welcome! Those 8-10 must be with a parent. The Charlotte warehouse processes hundreds of thousands of shoes each year and we will be a part of that! Your time volunteering will not only provide a child with the gift of new shoes\, but also a message of hope and compassion. \n\n\n\nRSVP required to Pat Wilson at gpwilson71@gmail.com or 843-812-9879.
URL:https://pumcfortmill.org/event/samaritans-feet/
LOCATION:Philadelphia United Methodist Church\, 1691 Hwy. 160 W\, Fort Mill\, SC\, 29708\, United States
CATEGORIES:Event,Missions,Service,Youth
ATTACH;FMTTYPE=image/jpeg:https://pumcfortmill.org/wp-content/uploads/2022/10/uAQVRhVn_400x400-2.jpg
END:VEVENT
BEGIN:VEVENT
DTSTART;TZID=America/New_York:20221030T170000
DTEND;TZID=America/New_York:20221030T183000
DTSTAMP:20260421T180827
CREATED:20220921T160625Z
LAST-MODIFIED:20220921T160637Z
UID:15503-1667149200-1667154600@pumcfortmill.org
SUMMARY:Trunk R Treat
DESCRIPTION:Join us for a safe\, fun\, family evening! Children are invited to put on their costumes and Trunk R Treat through our parking lot.  \n\n\n\nIf you are interested in decorating your trunk and joining in on the fun\, contact Nic Gold at nicolas@pumcfortmill.org
URL:https://pumcfortmill.org/event/trunk-r-treat-3/
LOCATION:Philadelphia United Methodist Church\, 1691 Hwy. 160 W\, Fort Mill\, SC\, 29708\, United States
CATEGORIES:Children's Event,Event,Youth
ATTACH;FMTTYPE=image/jpeg:https://pumcfortmill.org/wp-content/uploads/2021/07/Trunk-or-Treat-5-1080x675-1.jpg
ORGANIZER;CN="Nicolas Gold":MAILTO:nicolas@pumcfortmill.org
END:VEVENT
BEGIN:VEVENT
DTSTART;TZID=America/New_York:20220821T173000
DTEND;TZID=America/New_York:20220821T190000
DTSTAMP:20260421T180827
CREATED:20220816T144638Z
LAST-MODIFIED:20220816T144639Z
UID:14456-1661103000-1661108400@pumcfortmill.org
SUMMARY:PYG Reboot
DESCRIPTION:Middle and High School Youth will meet at the Church to have food\, games\, fellowship\, and devotion from 5:30pm – 7:00pm. There will also be a short parent meeting at 6:45pm to talk\, meet\, and fill out release forms. 
URL:https://pumcfortmill.org/event/pyg-reboot/
LOCATION:Philadelphia United Methodist Church\, 1691 Hwy. 160 W\, Fort Mill\, SC\, 29708\, United States
CATEGORIES:Event,Youth
ATTACH;FMTTYPE=image/png:https://pumcfortmill.org/wp-content/uploads/2019/08/PYG-kickoff.png
END:VEVENT
BEGIN:VEVENT
DTSTART;TZID=America/New_York:20220821T090000
DTEND;TZID=America/New_York:20220821T110000
DTSTAMP:20260421T180827
CREATED:20220816T144130Z
LAST-MODIFIED:20220816T144131Z
UID:14453-1661072400-1661079600@pumcfortmill.org
SUMMARY:Back to School Blessings
DESCRIPTION:At both services\, all students are invited to bring their backpacks as we ask for a special blessing for God’s love and protection.  \n\n\n\n3rd grade students will be present Bibles. \n\n\n\nAt 10am\, students are invited to go to their current grade level Sunday school class.
URL:https://pumcfortmill.org/event/back-to-school-blessings/
LOCATION:Philadelphia United Methodist Church\, 1691 Hwy. 160 W\, Fort Mill\, SC\, 29708\, United States
CATEGORIES:Children's Event,Event,Youth
ATTACH;FMTTYPE=image/png:https://pumcfortmill.org/wp-content/uploads/2022/08/Back-to-school-blessing-square-compressed.png
END:VEVENT
BEGIN:VEVENT
DTSTART;TZID=America/New_York:20220719T080000
DTEND;TZID=America/New_York:20220719T120000
DTSTAMP:20260421T180827
CREATED:20220714T161449Z
LAST-MODIFIED:20220714T161451Z
UID:13545-1658217600-1658232000@pumcfortmill.org
SUMMARY:Bright Side Youth Ranch
DESCRIPTION:Youth are invited to serve at this ranch for teens in need. We will take care of the horses for a couple of hours and then eat lunch at the ranch. Email youth@pumcfortmill.org today to go with us.
URL:https://pumcfortmill.org/event/bright-side-youth-ranch/
LOCATION:Philadelphia United Methodist Church\, 1691 Hwy. 160 W\, Fort Mill\, SC\, 29708\, United States
CATEGORIES:Youth
ATTACH;FMTTYPE=image/png:https://pumcfortmill.org/wp-content/uploads/2021/11/pyg-logo.png
END:VEVENT
BEGIN:VEVENT
DTSTART;TZID=America/New_York:20220522T110000
DTEND;TZID=America/New_York:20220522T110000
DTSTAMP:20260421T180827
CREATED:20220421T193338Z
LAST-MODIFIED:20220421T193339Z
UID:11235-1653217200-1653217200@pumcfortmill.org
SUMMARY:Youth Sunday
DESCRIPTION:Our youth will share their talents as they assist Pastor David in worship.
URL:https://pumcfortmill.org/event/youth-sunday/
LOCATION:Philadelphia United Methodist Church\, 1691 Hwy. 160 W\, Fort Mill\, SC\, 29708\, United States
CATEGORIES:Event,Youth
ATTACH;FMTTYPE=image/jpeg:https://pumcfortmill.org/wp-content/uploads/2022/04/youth-sunday-image-orig_orig.jpg
END:VEVENT
BEGIN:VEVENT
DTSTART;TZID=America/New_York:20220430T080000
DTEND;TZID=America/New_York:20220430T123000
DTSTAMP:20260421T180827
CREATED:20220423T194355Z
LAST-MODIFIED:20220423T194356Z
UID:11323-1651305600-1651321800@pumcfortmill.org
SUMMARY:Service Saturday @ Samaritan's Feet
DESCRIPTION:We have 10 slots to fill! Serve others at the Samaritan’s Feet Warehouse. You can bring a friend! This is a fun and unique experience. This organization has been providing shoes and socks to those fleeing the Ukraine. Each participant is asked to bring $25 or a new pair of athletic shoes.  \n\n\n\nSign up on PYG Sign Up Genius https://www.signupgenius.com/go/70A0849A5AB22A3F85-pygvolunteer
URL:https://pumcfortmill.org/event/service-saturday-samaritans-feet/
LOCATION:Philadelphia United Methodist Church\, 1691 Hwy. 160 W\, Fort Mill\, SC\, 29708\, United States
CATEGORIES:Event,Youth
ATTACH;FMTTYPE=image/jpeg:https://pumcfortmill.org/wp-content/uploads/2022/04/uAQVRhVn_400x400.jpg
END:VEVENT
END:VCALENDAR