BEGIN:VCALENDAR
VERSION:2.0
PRODID:-//Philadelphia United Methodist Church - ECPv6.15.17.1//NONSGML v1.0//EN
CALSCALE:GREGORIAN
METHOD:PUBLISH
X-WR-CALNAME:Philadelphia United Methodist Church
X-ORIGINAL-URL:https://pumcfortmill.org
X-WR-CALDESC:Events for Philadelphia United Methodist Church
REFRESH-INTERVAL;VALUE=DURATION:PT1H
X-Robots-Tag:noindex
X-PUBLISHED-TTL:PT1H
BEGIN:VTIMEZONE
TZID:America/New_York
BEGIN:DAYLIGHT
TZOFFSETFROM:-0500
TZOFFSETTO:-0400
TZNAME:EDT
DTSTART:20240310T070000
END:DAYLIGHT
BEGIN:STANDARD
TZOFFSETFROM:-0400
TZOFFSETTO:-0500
TZNAME:EST
DTSTART:20241103T060000
END:STANDARD
BEGIN:DAYLIGHT
TZOFFSETFROM:-0500
TZOFFSETTO:-0400
TZNAME:EDT
DTSTART:20250309T070000
END:DAYLIGHT
BEGIN:STANDARD
TZOFFSETFROM:-0400
TZOFFSETTO:-0500
TZNAME:EST
DTSTART:20251102T060000
END:STANDARD
BEGIN:DAYLIGHT
TZOFFSETFROM:-0500
TZOFFSETTO:-0400
TZNAME:EDT
DTSTART:20260308T070000
END:DAYLIGHT
BEGIN:STANDARD
TZOFFSETFROM:-0400
TZOFFSETTO:-0500
TZNAME:EST
DTSTART:20261101T060000
END:STANDARD
END:VTIMEZONE
BEGIN:VEVENT
DTSTART;TZID=America/New_York:20250812T113000
DTEND;TZID=America/New_York:20250812T130000
DTSTAMP:20260420T163443
CREATED:20250731T012314Z
LAST-MODIFIED:20250731T012316Z
UID:90984-1754998200-1755003600@pumcfortmill.org
SUMMARY:Old Time Hymn Sing
DESCRIPTION:Old Time Hymn SingTuesday\, August 12th 11:30 am in the Fellowship HallPlease note the time change.Following the singing\, there will be a pizza lunch.Bring salads and/or desserts. Come enjoy the fellowship!
URL:https://pumcfortmill.org/event/old-time-hymn-sing/
CATEGORIES:Event,Meetings,Senior Citizens
ATTACH;FMTTYPE=image/png:https://pumcfortmill.org/wp-content/uploads/2025/07/Old-Time-Hymn.png
END:VEVENT
END:VCALENDAR