BEGIN:VCALENDAR
VERSION:2.0
PRODID:-//Philadelphia United Methodist Church - ECPv6.15.17.1//NONSGML v1.0//EN
CALSCALE:GREGORIAN
METHOD:PUBLISH
X-WR-CALNAME:Philadelphia United Methodist Church
X-ORIGINAL-URL:https://pumcfortmill.org
X-WR-CALDESC:Events for Philadelphia United Methodist Church
REFRESH-INTERVAL;VALUE=DURATION:PT1H
X-Robots-Tag:noindex
X-PUBLISHED-TTL:PT1H
BEGIN:VTIMEZONE
TZID:America/New_York
BEGIN:DAYLIGHT
TZOFFSETFROM:-0500
TZOFFSETTO:-0400
TZNAME:EDT
DTSTART:20230312T070000
END:DAYLIGHT
BEGIN:STANDARD
TZOFFSETFROM:-0400
TZOFFSETTO:-0500
TZNAME:EST
DTSTART:20231105T060000
END:STANDARD
BEGIN:DAYLIGHT
TZOFFSETFROM:-0500
TZOFFSETTO:-0400
TZNAME:EDT
DTSTART:20240310T070000
END:DAYLIGHT
BEGIN:STANDARD
TZOFFSETFROM:-0400
TZOFFSETTO:-0500
TZNAME:EST
DTSTART:20241103T060000
END:STANDARD
BEGIN:DAYLIGHT
TZOFFSETFROM:-0500
TZOFFSETTO:-0400
TZNAME:EDT
DTSTART:20250309T070000
END:DAYLIGHT
BEGIN:STANDARD
TZOFFSETFROM:-0400
TZOFFSETTO:-0500
TZNAME:EST
DTSTART:20251102T060000
END:STANDARD
END:VTIMEZONE
BEGIN:VEVENT
DTSTART;TZID=America/New_York:20240915T000000
DTEND;TZID=America/New_York:20240915T120100
DTSTAMP:20260422T192534
CREATED:20240910T024500Z
LAST-MODIFIED:20240910T024502Z
UID:58783-1726358400-1726401660@pumcfortmill.org
SUMMARY:Homecoming
DESCRIPTION:One Service at 11am \n\n\n\nGuess Pastor\, Rev. Becky Shirley \n\n\n\nCovered dish luncheon after service.
URL:https://pumcfortmill.org/event/homecoming-2/
LOCATION:Philadelphia United Methodist Church\, 1691 Hwy. 160 W\, Fort Mill\, SC\, 29708\, United States
CATEGORIES:Evangelism,Event,Service,Worship
END:VEVENT
END:VCALENDAR