BEGIN:VCALENDAR
VERSION:2.0
PRODID:-//Philadelphia United Methodist Church - ECPv6.15.17.1//NONSGML v1.0//EN
CALSCALE:GREGORIAN
METHOD:PUBLISH
X-ORIGINAL-URL:https://pumcfortmill.org
X-WR-CALDESC:Events for Philadelphia United Methodist Church
REFRESH-INTERVAL;VALUE=DURATION:PT1H
X-Robots-Tag:noindex
X-PUBLISHED-TTL:PT1H
BEGIN:VTIMEZONE
TZID:America/New_York
BEGIN:DAYLIGHT
TZOFFSETFROM:-0500
TZOFFSETTO:-0400
TZNAME:EDT
DTSTART:20230312T070000
END:DAYLIGHT
BEGIN:STANDARD
TZOFFSETFROM:-0400
TZOFFSETTO:-0500
TZNAME:EST
DTSTART:20231105T060000
END:STANDARD
BEGIN:DAYLIGHT
TZOFFSETFROM:-0500
TZOFFSETTO:-0400
TZNAME:EDT
DTSTART:20240310T070000
END:DAYLIGHT
BEGIN:STANDARD
TZOFFSETFROM:-0400
TZOFFSETTO:-0500
TZNAME:EST
DTSTART:20241103T060000
END:STANDARD
BEGIN:DAYLIGHT
TZOFFSETFROM:-0500
TZOFFSETTO:-0400
TZNAME:EDT
DTSTART:20250309T070000
END:DAYLIGHT
BEGIN:STANDARD
TZOFFSETFROM:-0400
TZOFFSETTO:-0500
TZNAME:EST
DTSTART:20251102T060000
END:STANDARD
END:VTIMEZONE
BEGIN:VEVENT
DTSTART;TZID=America/New_York:20240804T121500
DTEND;TZID=America/New_York:20240804T130000
DTSTAMP:20260423T063841
CREATED:20240630T140253Z
LAST-MODIFIED:20240630T140256Z
UID:51365-1722773700-1722776400@pumcfortmill.org
SUMMARY:Listening Session
DESCRIPTION:Join us for the third and final Listening Session of the Discernment Process. This is a time for every voice in the church to be heard and a opportunity for us to listen to our fellow brothers and sisters in Christ. After a brief presentation\, members will be allowed to speak from their heart. Speaking time is limited to two minutes and you will be asked to sign up when you arrive. childcare provided.
URL:https://pumcfortmill.org/event/listening-session-3/
LOCATION:PUMC Sanctuary\, 1691 Hwy. 160 W\, Fort Mill\, 29708\, United States
CATEGORIES:Event,Meetings
ATTACH;FMTTYPE=image/jpeg:https://pumcfortmill.org/wp-content/uploads/2021/06/SanctuaryStainedGlass.jpg
END:VEVENT
END:VCALENDAR