BEGIN:VCALENDAR
VERSION:2.0
PRODID:-//Philadelphia United Methodist Church - ECPv6.15.17.1//NONSGML v1.0//EN
CALSCALE:GREGORIAN
METHOD:PUBLISH
X-WR-CALNAME:Philadelphia United Methodist Church
X-ORIGINAL-URL:https://pumcfortmill.org
X-WR-CALDESC:Events for Philadelphia United Methodist Church
REFRESH-INTERVAL;VALUE=DURATION:PT1H
X-Robots-Tag:noindex
X-PUBLISHED-TTL:PT1H
BEGIN:VTIMEZONE
TZID:America/New_York
BEGIN:DAYLIGHT
TZOFFSETFROM:-0500
TZOFFSETTO:-0400
TZNAME:EDT
DTSTART:20230312T070000
END:DAYLIGHT
BEGIN:STANDARD
TZOFFSETFROM:-0400
TZOFFSETTO:-0500
TZNAME:EST
DTSTART:20231105T060000
END:STANDARD
BEGIN:DAYLIGHT
TZOFFSETFROM:-0500
TZOFFSETTO:-0400
TZNAME:EDT
DTSTART:20240310T070000
END:DAYLIGHT
BEGIN:STANDARD
TZOFFSETFROM:-0400
TZOFFSETTO:-0500
TZNAME:EST
DTSTART:20241103T060000
END:STANDARD
BEGIN:DAYLIGHT
TZOFFSETFROM:-0500
TZOFFSETTO:-0400
TZNAME:EDT
DTSTART:20250309T070000
END:DAYLIGHT
BEGIN:STANDARD
TZOFFSETFROM:-0400
TZOFFSETTO:-0500
TZNAME:EST
DTSTART:20251102T060000
END:STANDARD
END:VTIMEZONE
BEGIN:VEVENT
DTSTART;TZID=America/New_York:20240804T121500
DTEND;TZID=America/New_York:20240804T130000
DTSTAMP:20260423T034923
CREATED:20240630T140253Z
LAST-MODIFIED:20240630T140256Z
UID:51365-1722773700-1722776400@pumcfortmill.org
SUMMARY:Listening Session
DESCRIPTION:Join us for the third and final Listening Session of the Discernment Process. This is a time for every voice in the church to be heard and a opportunity for us to listen to our fellow brothers and sisters in Christ. After a brief presentation\, members will be allowed to speak from their heart. Speaking time is limited to two minutes and you will be asked to sign up when you arrive. childcare provided.
URL:https://pumcfortmill.org/event/listening-session-3/
LOCATION:PUMC Sanctuary\, 1691 Hwy. 160 W\, Fort Mill\, 29708\, United States
CATEGORIES:Event,Meetings
ATTACH;FMTTYPE=image/jpeg:https://pumcfortmill.org/wp-content/uploads/2021/06/SanctuaryStainedGlass.jpg
END:VEVENT
BEGIN:VEVENT
DTSTART;TZID=America/New_York:20240806T190000
DTEND;TZID=America/New_York:20240806T193000
DTSTAMP:20260423T034923
CREATED:20240630T142523Z
LAST-MODIFIED:20240630T142524Z
UID:51372-1722970800-1722972600@pumcfortmill.org
SUMMARY:Discernment Prayer Service
DESCRIPTION:Join us as we seek God’s will through His Holy scripture\, prayer\, meditation\, and guidance from the Holy Spirit.
URL:https://pumcfortmill.org/event/discernment-prayer-service-3/
LOCATION:PUMC Sanctuary\, 1691 Hwy. 160 W\, Fort Mill\, 29708\, United States
CATEGORIES:Event,Meetings,Service,Worship
ATTACH;FMTTYPE=image/jpeg:https://pumcfortmill.org/wp-content/uploads/2024/06/prayer-service.jpeg
END:VEVENT
BEGIN:VEVENT
DTSTART;TZID=America/New_York:20240811T121500
DTEND;TZID=America/New_York:20240811T131500
DTSTAMP:20260423T034923
CREATED:20240630T143052Z
LAST-MODIFIED:20240630T143145Z
UID:51375-1723378500-1723382100@pumcfortmill.org
SUMMARY:Informational Meeting
DESCRIPTION:This is the last meeting of the Discernment Process before Church Conference. We will review the voting process and financial responsibilities to separate.
URL:https://pumcfortmill.org/event/information-meeting/
LOCATION:PUMC Sanctuary\, 1691 Hwy. 160 W\, Fort Mill\, 29708\, United States
CATEGORIES:Event,Meetings
END:VEVENT
END:VCALENDAR