BEGIN:VCALENDAR
VERSION:2.0
PRODID:-//Philadelphia United Methodist Church - ECPv6.15.17.1//NONSGML v1.0//EN
CALSCALE:GREGORIAN
METHOD:PUBLISH
X-WR-CALNAME:Philadelphia United Methodist Church
X-ORIGINAL-URL:https://pumcfortmill.org
X-WR-CALDESC:Events for Philadelphia United Methodist Church
REFRESH-INTERVAL;VALUE=DURATION:PT1H
X-Robots-Tag:noindex
X-PUBLISHED-TTL:PT1H
BEGIN:VTIMEZONE
TZID:America/New_York
BEGIN:DAYLIGHT
TZOFFSETFROM:-0500
TZOFFSETTO:-0400
TZNAME:EDT
DTSTART:20230312T070000
END:DAYLIGHT
BEGIN:STANDARD
TZOFFSETFROM:-0400
TZOFFSETTO:-0500
TZNAME:EST
DTSTART:20231105T060000
END:STANDARD
BEGIN:DAYLIGHT
TZOFFSETFROM:-0500
TZOFFSETTO:-0400
TZNAME:EDT
DTSTART:20240310T070000
END:DAYLIGHT
BEGIN:STANDARD
TZOFFSETFROM:-0400
TZOFFSETTO:-0500
TZNAME:EST
DTSTART:20241103T060000
END:STANDARD
BEGIN:DAYLIGHT
TZOFFSETFROM:-0500
TZOFFSETTO:-0400
TZNAME:EDT
DTSTART:20250309T070000
END:DAYLIGHT
BEGIN:STANDARD
TZOFFSETFROM:-0400
TZOFFSETTO:-0500
TZNAME:EST
DTSTART:20251102T060000
END:STANDARD
END:VTIMEZONE
BEGIN:VEVENT
DTSTART;TZID=America/New_York:20240608T080000
DTEND;TZID=America/New_York:20240608T150000
DTSTAMP:20260425T105847
CREATED:20240521T011105Z
LAST-MODIFIED:20240523T152441Z
UID:47064-1717833600-1717858800@pumcfortmill.org
SUMMARY:Habitat of York County Faith Build
DESCRIPTION:Join us to paint the interior of a new home for a working family. Full day and half day slots are available. Lunch will be provided. Use the contact link on the sign-up genius for any questions. \n\n\n\nFollow this link for sign-up and more details: https://www.signupgenius.com/go/70A084AAAA62FA20-49273555-may42024
URL:https://pumcfortmill.org/event/habitat-of-york-county-faith-build/
CATEGORIES:Event,Life Group,Missions
ATTACH;FMTTYPE=image/png:https://pumcfortmill.org/wp-content/uploads/2024/04/habitat-1.png
END:VEVENT
BEGIN:VEVENT
DTSTART;TZID=America/New_York:20240525T090000
DTEND;TZID=America/New_York:20240525T123000
DTSTAMP:20260425T105847
CREATED:20240508T205455Z
LAST-MODIFIED:20240526T213246Z
UID:45832-1716627600-1716640200@pumcfortmill.org
SUMMARY:VBS Workshop
DESCRIPTION:Join us in the PUMC Fellowship Hall to create crafts and decorations for Scuba Vacation Bible School.  \n\n\n\nContact Nicolas@pumcfortmill.org with questions.
URL:https://pumcfortmill.org/event/vbs-workshop-2/
CATEGORIES:Children's Event,Event
ATTACH;FMTTYPE=image/png:https://pumcfortmill.org/wp-content/uploads/2024/05/vbs.png
END:VEVENT
BEGIN:VEVENT
DTSTART;TZID=America/New_York:20240609T120000
DTEND;TZID=America/New_York:20240609T130000
DTSTAMP:20260425T105847
CREATED:20240526T212203Z
LAST-MODIFIED:20240603T014133Z
UID:47660-1717934400-1717938000@pumcfortmill.org
SUMMARY:VBS Training
DESCRIPTION:
URL:https://pumcfortmill.org/event/vbs-training/
CATEGORIES:Children's Event,Event,UMM,UMW,Youth
ATTACH;FMTTYPE=image/png:https://pumcfortmill.org/wp-content/uploads/2024/05/vbs.png
END:VEVENT
BEGIN:VEVENT
DTSTART;TZID=America/New_York:20240609T120000
DTEND;TZID=America/New_York:20240609T130000
DTSTAMP:20260425T105847
CREATED:20240526T212203Z
LAST-MODIFIED:20240603T014133Z
UID:47660-1717934400-1717938000@pumcfortmill.org
SUMMARY:VBS Training
DESCRIPTION:
URL:https://pumcfortmill.org/event/vbs-training/
CATEGORIES:Children's Event,Event,UMM,UMW,Youth
ATTACH;FMTTYPE=image/png:https://pumcfortmill.org/wp-content/uploads/2024/05/vbs.png
END:VEVENT
BEGIN:VEVENT
DTSTART;TZID=America/New_York:20240618T190000
DTEND;TZID=America/New_York:20240618T193000
DTSTAMP:20260425T105847
CREATED:20240611T144318Z
LAST-MODIFIED:20240611T144320Z
UID:49350-1718737200-1718739000@pumcfortmill.org
SUMMARY:Discernment Prayer Service
DESCRIPTION:Join us as we seek God’s will through His Holy scripture\, prayer\, meditation\, and guidance from the Holy Spirit.
URL:https://pumcfortmill.org/event/discernment-prayer-service/
CATEGORIES:Event,Meetings,Service,Worship
ATTACH;FMTTYPE=image/jpeg:https://pumcfortmill.org/wp-content/uploads/2024/06/prayer-service.jpeg
END:VEVENT
BEGIN:VEVENT
DTSTART;TZID=America/New_York:20240622T103000
DTEND;TZID=America/New_York:20240622T130000
DTSTAMP:20260425T105847
CREATED:20240611T164021Z
LAST-MODIFIED:20240611T164229Z
UID:49361-1719052200-1719061200@pumcfortmill.org
SUMMARY:VBS Workshop
DESCRIPTION:All hands on deck as we turn Philadelphia into an underwater adventure for over 125 children! All abilities welcome! Contact nicolas@pumcfortmill.org with questions.
URL:https://pumcfortmill.org/event/vbs-workshop-3/
LOCATION:PUMC Fellowship Hall\, 1691 Hwy. 160 W\, Fort Mill\, 29708\, United States
CATEGORIES:Children's Event,Evangelism,Event,Missions,Music,Nurture,PUMC Guest Evemt,UMM,UMW,Youth
ATTACH;FMTTYPE=image/png:https://pumcfortmill.org/wp-content/uploads/2024/05/vbs.png
ORGANIZER;CN="Nicolas Gold":MAILTO:nicolas@pumcfortmill.org
END:VEVENT
BEGIN:VEVENT
DTSTART;TZID=America/New_York:20240630T101500
DTEND;TZID=America/New_York:20240630T103000
DTSTAMP:20260425T105847
CREATED:20240603T013504Z
LAST-MODIFIED:20240603T015557Z
UID:48397-1719742500-1719743400@pumcfortmill.org
SUMMARY:Coffee & Conversation
DESCRIPTION:Join Pastor David in his office for coffee/tea the 4th Sunday of every month in the Pastor’s office. This is designed for our newer members to have a time of fellowship with each other and the Pastor\, learn more about the church\, small group opportunities\, and ways to serve. Please email Pastor David at david@pumcfortmill.org to let him know if you are able to join.
URL:https://pumcfortmill.org/event/coffee-conversation/
CATEGORIES:Evangelism,Event,PUMC Guest Evemt
ATTACH;FMTTYPE=image/png:https://pumcfortmill.org/wp-content/uploads/2024/06/CoffeeTea-with-the-Pastor-Instagram-Post-e1717378658834.png
END:VEVENT
BEGIN:VEVENT
DTSTART;TZID=America/New_York:20240630T121500
DTEND;TZID=America/New_York:20240630T131500
DTSTAMP:20260425T105847
CREATED:20240611T183501Z
LAST-MODIFIED:20240611T183934Z
UID:49374-1719749700-1719753300@pumcfortmill.org
SUMMARY:Discernment Process                    Informational Meeting
DESCRIPTION:All congregants are encouraged to attend our first Informational Meeting. We will provide information on the process itself\, why we are going through the process and the process timeline.
URL:https://pumcfortmill.org/event/informational-meeting/
LOCATION:PUMC Sanctuary\, 1691 Hwy. 160 W\, Fort Mill\, 29708\, United States
CATEGORIES:Event,Meetings
ATTACH;FMTTYPE=image/png:https://pumcfortmill.org/wp-content/uploads/2024/06/Beige-Modern-Fellowship-Presentation-Postcard-US.png
ORGANIZER;CN="Discernment Team":MAILTO:questions@pumcfortmill.org
END:VEVENT
END:VCALENDAR