BEGIN:VCALENDAR
VERSION:2.0
PRODID:-//Philadelphia United Methodist Church - ECPv6.15.17.1//NONSGML v1.0//EN
CALSCALE:GREGORIAN
METHOD:PUBLISH
X-WR-CALNAME:Philadelphia United Methodist Church
X-ORIGINAL-URL:https://pumcfortmill.org
X-WR-CALDESC:Events for Philadelphia United Methodist Church
REFRESH-INTERVAL;VALUE=DURATION:PT1H
X-Robots-Tag:noindex
X-PUBLISHED-TTL:PT1H
BEGIN:VTIMEZONE
TZID:America/New_York
BEGIN:DAYLIGHT
TZOFFSETFROM:-0500
TZOFFSETTO:-0400
TZNAME:EDT
DTSTART:20240310T070000
END:DAYLIGHT
BEGIN:STANDARD
TZOFFSETFROM:-0400
TZOFFSETTO:-0500
TZNAME:EST
DTSTART:20241103T060000
END:STANDARD
BEGIN:DAYLIGHT
TZOFFSETFROM:-0500
TZOFFSETTO:-0400
TZNAME:EDT
DTSTART:20250309T070000
END:DAYLIGHT
BEGIN:STANDARD
TZOFFSETFROM:-0400
TZOFFSETTO:-0500
TZNAME:EST
DTSTART:20251102T060000
END:STANDARD
BEGIN:DAYLIGHT
TZOFFSETFROM:-0500
TZOFFSETTO:-0400
TZNAME:EDT
DTSTART:20260308T070000
END:DAYLIGHT
BEGIN:STANDARD
TZOFFSETFROM:-0400
TZOFFSETTO:-0500
TZNAME:EST
DTSTART:20261101T060000
END:STANDARD
END:VTIMEZONE
BEGIN:VEVENT
DTSTART;TZID=America/New_York:20250226T181500
DTEND;TZID=America/New_York:20250226T190000
DTSTAMP:20260422T182417
CREATED:20250106T173704Z
LAST-MODIFIED:20250106T174358Z
UID:70626-1740593700-1740596400@pumcfortmill.org
SUMMARY:The Silver Chair Bible Study for Kids
DESCRIPTION:A new six-week Bible study for kids based on Narnia book by C.S. Lewis. We are on a faith-journey to the north of Narnia\, learning what it means to trust God. Ages 3 thru 5th Grade. Nursery also provided. Starts Wednesday\, February 5th from 6:15-7:00pm. Contact Nicolas@pumcfortmill.org to participate.
URL:https://pumcfortmill.org/event/the-silver-chair-bible-study-for-kids-4/
CATEGORIES:Children's Event
ATTACH;FMTTYPE=image/png:https://pumcfortmill.org/wp-content/uploads/2025/01/Silver-Chair.png
END:VEVENT
BEGIN:VEVENT
DTSTART;TZID=America/New_York:20250312T181500
DTEND;TZID=America/New_York:20250312T190000
DTSTAMP:20260422T182417
CREATED:20250106T173901Z
LAST-MODIFIED:20250106T174213Z
UID:70628-1741803300-1741806000@pumcfortmill.org
SUMMARY:The Silver Chair Bible Study for Kids
DESCRIPTION:A new six-week Bible study for kids based on Narnia book by C.S. Lewis. We are on a faith-journey to the north of Narnia\, learning what it means to trust God. Ages 3 thru 5th Grade. Nursery also provided. Starts Wednesday\, February 5th from 6:15-7:00pm. Contact Nicolas@pumcfortmill.org to participate.
URL:https://pumcfortmill.org/event/the-silver-chair-bible-study-for-kids-5/
CATEGORIES:Children's Event
ATTACH;FMTTYPE=image/png:https://pumcfortmill.org/wp-content/uploads/2025/01/Silver-Chair.png
END:VEVENT
BEGIN:VEVENT
DTSTART;TZID=America/New_York:20250319T181500
DTEND;TZID=America/New_York:20250319T190000
DTSTAMP:20260422T182417
CREATED:20250106T174022Z
LAST-MODIFIED:20250106T174023Z
UID:70630-1742408100-1742410800@pumcfortmill.org
SUMMARY:The Silver Chair Bible Study for Kids
DESCRIPTION:A new six-week Bible study for kids based on Narnia book by C.S. Lewis. We are on a faith-journey to the north of Narnia\, learning what it means to trust God. Ages 3 thru 5th Grade. Nursery also provided. Starts Wednesday\, February 5th from 6:15-7:00pm. Contact Nicolas@pumcfortmill.org to participate.
URL:https://pumcfortmill.org/event/the-silver-chair-bible-study-for-kids-6/
CATEGORIES:Children's Event
ATTACH;FMTTYPE=image/png:https://pumcfortmill.org/wp-content/uploads/2025/01/Silver-Chair.png
END:VEVENT
BEGIN:VEVENT
DTSTART;TZID=America/New_York:20250903T181500
DTEND;TZID=America/New_York:20250903T190000
DTSTAMP:20260422T182417
CREATED:20250731T000249Z
LAST-MODIFIED:20250731T000250Z
UID:90945-1756923300-1756926000@pumcfortmill.org
SUMMARY:The Horse and His Boy Bible Study for Kids
DESCRIPTION:A new six-week Bible study for kids based on the Narnia book by C.S. Lewis. We will learn that God is in control\, so we’ll never give up. Ages 3 through 5th Grade. Nursery provided. Starts Wednesday\, September 3rd from 6:15-7:00pm. Contact Nicolas@pumcfortmill.org to participate.
URL:https://pumcfortmill.org/event/the-horse-and-his-boy-bible-study-for-kids/
CATEGORIES:Bible Study,Children's Event
ATTACH;FMTTYPE=image/png:https://pumcfortmill.org/wp-content/uploads/2025/07/Starts.png
END:VEVENT
BEGIN:VEVENT
DTSTART;TZID=America/New_York:20250910T181500
DTEND;TZID=America/New_York:20250910T190000
DTSTAMP:20260422T182417
CREATED:20250731T000457Z
LAST-MODIFIED:20250731T001716Z
UID:90956-1757528100-1757530800@pumcfortmill.org
SUMMARY:The Horse and His Boy Bible Study for Kids
DESCRIPTION:A new six-week Bible study for kids based on the Narnia book by C.S. Lewis. We will learn that God is in control\, so we’ll never give up. Ages 3 through 5th Grade. Nursery provided. Starts Wednesday\, September 3rd from 6:15-7:00pm. Contact Nicolas@pumcfortmill.org to participate.
URL:https://pumcfortmill.org/event/the-horse-and-his-boy-bible-study-for-kids-2/
CATEGORIES:Bible Study,Children's Event
ATTACH;FMTTYPE=image/png:https://pumcfortmill.org/wp-content/uploads/2025/07/Starts.png
END:VEVENT
BEGIN:VEVENT
DTSTART;TZID=America/New_York:20250917T181500
DTEND;TZID=America/New_York:20250917T191500
DTSTAMP:20260422T182417
CREATED:20250731T000659Z
LAST-MODIFIED:20250731T002837Z
UID:90958-1758132900-1758136500@pumcfortmill.org
SUMMARY:The Horse and His Boy Bible Study for Kids
DESCRIPTION:A new six-week Bible study for kids based on the Narnia book by C.S. Lewis. We will learn that God is in control\, so we’ll never give up. Ages 3 through 5th Grade. Nursery provided. Starts Wednesday\, September 3rd from 6:15-7:00pm. Contact Nicolas@pumcfortmill.org to participate.
URL:https://pumcfortmill.org/event/the-horse-and-his-boy-bible-study-for-kids-3/
CATEGORIES:Bible Study,Children's Event
ATTACH;FMTTYPE=image/png:https://pumcfortmill.org/wp-content/uploads/2025/07/Starts.png
END:VEVENT
BEGIN:VEVENT
DTSTART;TZID=America/New_York:20250924T181500
DTEND;TZID=America/New_York:20250924T190000
DTSTAMP:20260422T182417
CREATED:20250731T001308Z
LAST-MODIFIED:20250731T003059Z
UID:90960-1758737700-1758740400@pumcfortmill.org
SUMMARY:The Horse and His Boy Bible Study for Kids
DESCRIPTION:A new six-week Bible study for kids based on the Narnia book by C.S. Lewis. We will learn that God is in control\, so we’ll never give up. Ages 3 through 5th Grade. Nursery provided. Starts Wednesday\, September 3rd from 6:15-7:00pm. Contact Nicolas@pumcfortmill.org to participate.
URL:https://pumcfortmill.org/event/the-horse-and-his-boy-bible-study-for-kids-4/
CATEGORIES:Bible Study,Children's Event
ATTACH;FMTTYPE=image/png:https://pumcfortmill.org/wp-content/uploads/2025/07/Starts.png
END:VEVENT
BEGIN:VEVENT
DTSTART;TZID=America/New_York:20251001T181500
DTEND;TZID=America/New_York:20251001T190000
DTSTAMP:20260422T182417
CREATED:20250731T001418Z
LAST-MODIFIED:20250731T001420Z
UID:90962-1759342500-1759345200@pumcfortmill.org
SUMMARY:The Horse and His Boy Bible Study for Kids
DESCRIPTION:
URL:https://pumcfortmill.org/event/the-horse-and-his-boy-bible-study-for-kids-5/
CATEGORIES:Bible Study,Children's Event
ATTACH;FMTTYPE=image/png:https://pumcfortmill.org/wp-content/uploads/2025/07/Starts.png
END:VEVENT
BEGIN:VEVENT
DTSTART;TZID=America/New_York:20251008T181500
DTEND;TZID=America/New_York:20251008T190000
DTSTAMP:20260422T182417
CREATED:20250731T001540Z
LAST-MODIFIED:20250731T001542Z
UID:90965-1759947300-1759950000@pumcfortmill.org
SUMMARY:The Horse and His Boy Bible Study for Kids
DESCRIPTION:A new six-week Bible study for kids based on the Narnia book by C.S. Lewis. We will learn that God is in control\, so we’ll never give up. Ages 3 through 5th Grade. Nursery provided. Starts Wednesday\, September 3rd from 6:15-7:00pm. Contact Nicolas@pumcfortmill.org to participate.
URL:https://pumcfortmill.org/event/the-horse-and-his-boy-bible-study-for-kids-6/
CATEGORIES:Bible Study,Children's Event
ATTACH;FMTTYPE=image/png:https://pumcfortmill.org/wp-content/uploads/2025/07/Starts.png
END:VEVENT
BEGIN:VEVENT
DTSTART;TZID=America/New_York:20251026T170000
DTEND;TZID=America/New_York:20251026T183000
DTSTAMP:20260422T182417
CREATED:20251001T165908Z
LAST-MODIFIED:20251001T171929Z
UID:97209-1761498000-1761503400@pumcfortmill.org
SUMMARY:Trunk R Treat
DESCRIPTION:Children\, families\, and everyone else are invited to come to the church in their Halloween costume and receive candy from the different decorated trunks. Hot dogs and drinks are free. Also\, we need decorated trunks\, donated candy\, hot dogs\, buns\, small chip bags\, and bottled water. If you can help with either\, contact Nicolas Gold at nicolas@pumcfortmill.org
URL:https://pumcfortmill.org/event/trunk-r-treat-5/
CATEGORIES:Children's Event,Event,PUMC Guest Evemt
ATTACH;FMTTYPE=image/png:https://pumcfortmill.org/wp-content/uploads/2025/10/Trunk-or-Treat.png
END:VEVENT
BEGIN:VEVENT
DTSTART;TZID=America/New_York:20251105T163000
DTEND;TZID=America/New_York:20251105T183000
DTSTAMP:20260422T182417
CREATED:20251001T173954Z
LAST-MODIFIED:20251001T173955Z
UID:97219-1762360200-1762367400@pumcfortmill.org
SUMMARY:Operation Christmas Child Pancake Packing Party
DESCRIPTION:
URL:https://pumcfortmill.org/event/operation-christmas-child-pancake-packing-party/
CATEGORIES:Children's Event,Event,Missions,PUMC Guest Evemt,Senior Citizens,Service,UMM,UMW,UWF,Youth
ATTACH;FMTTYPE=image/png:https://pumcfortmill.org/wp-content/uploads/2025/10/1.png
END:VEVENT
END:VCALENDAR