BEGIN:VCALENDAR
VERSION:2.0
PRODID:-//Philadelphia United Methodist Church - ECPv6.15.17.1//NONSGML v1.0//EN
CALSCALE:GREGORIAN
METHOD:PUBLISH
X-ORIGINAL-URL:https://pumcfortmill.org
X-WR-CALDESC:Events for Philadelphia United Methodist Church
REFRESH-INTERVAL;VALUE=DURATION:PT1H
X-Robots-Tag:noindex
X-PUBLISHED-TTL:PT1H
BEGIN:VTIMEZONE
TZID:America/New_York
BEGIN:DAYLIGHT
TZOFFSETFROM:-0500
TZOFFSETTO:-0400
TZNAME:EDT
DTSTART:20240310T070000
END:DAYLIGHT
BEGIN:STANDARD
TZOFFSETFROM:-0400
TZOFFSETTO:-0500
TZNAME:EST
DTSTART:20241103T060000
END:STANDARD
BEGIN:DAYLIGHT
TZOFFSETFROM:-0500
TZOFFSETTO:-0400
TZNAME:EDT
DTSTART:20250309T070000
END:DAYLIGHT
BEGIN:STANDARD
TZOFFSETFROM:-0400
TZOFFSETTO:-0500
TZNAME:EST
DTSTART:20251102T060000
END:STANDARD
BEGIN:DAYLIGHT
TZOFFSETFROM:-0500
TZOFFSETTO:-0400
TZNAME:EDT
DTSTART:20260308T070000
END:DAYLIGHT
BEGIN:STANDARD
TZOFFSETFROM:-0400
TZOFFSETTO:-0500
TZNAME:EST
DTSTART:20261101T060000
END:STANDARD
END:VTIMEZONE
BEGIN:VEVENT
DTSTART;TZID=America/New_York:20250226T181500
DTEND;TZID=America/New_York:20250226T190000
DTSTAMP:20260424T125651
CREATED:20250106T173704Z
LAST-MODIFIED:20250106T174358Z
UID:70626-1740593700-1740596400@pumcfortmill.org
SUMMARY:The Silver Chair Bible Study for Kids
DESCRIPTION:A new six-week Bible study for kids based on Narnia book by C.S. Lewis. We are on a faith-journey to the north of Narnia\, learning what it means to trust God. Ages 3 thru 5th Grade. Nursery also provided. Starts Wednesday\, February 5th from 6:15-7:00pm. Contact Nicolas@pumcfortmill.org to participate.
URL:https://pumcfortmill.org/event/the-silver-chair-bible-study-for-kids-4/
CATEGORIES:Children's Event
ATTACH;FMTTYPE=image/png:https://pumcfortmill.org/wp-content/uploads/2025/01/Silver-Chair.png
END:VEVENT
END:VCALENDAR