BEGIN:VCALENDAR
VERSION:2.0
PRODID:-//Philadelphia United Methodist Church - ECPv6.15.17.1//NONSGML v1.0//EN
CALSCALE:GREGORIAN
METHOD:PUBLISH
X-ORIGINAL-URL:https://pumcfortmill.org
X-WR-CALDESC:Events for Philadelphia United Methodist Church
REFRESH-INTERVAL;VALUE=DURATION:PT1H
X-Robots-Tag:noindex
X-PUBLISHED-TTL:PT1H
BEGIN:VTIMEZONE
TZID:America/New_York
BEGIN:DAYLIGHT
TZOFFSETFROM:-0500
TZOFFSETTO:-0400
TZNAME:EDT
DTSTART:20220313T070000
END:DAYLIGHT
BEGIN:STANDARD
TZOFFSETFROM:-0400
TZOFFSETTO:-0500
TZNAME:EST
DTSTART:20221106T060000
END:STANDARD
BEGIN:DAYLIGHT
TZOFFSETFROM:-0500
TZOFFSETTO:-0400
TZNAME:EDT
DTSTART:20230312T070000
END:DAYLIGHT
BEGIN:STANDARD
TZOFFSETFROM:-0400
TZOFFSETTO:-0500
TZNAME:EST
DTSTART:20231105T060000
END:STANDARD
BEGIN:DAYLIGHT
TZOFFSETFROM:-0500
TZOFFSETTO:-0400
TZNAME:EDT
DTSTART:20240310T070000
END:DAYLIGHT
BEGIN:STANDARD
TZOFFSETFROM:-0400
TZOFFSETTO:-0500
TZNAME:EST
DTSTART:20241103T060000
END:STANDARD
END:VTIMEZONE
BEGIN:VEVENT
DTSTART;TZID=America/New_York:20230917T100000
DTEND;TZID=America/New_York:20230917T110000
DTSTAMP:20260423T120745
CREATED:20230915T052355Z
LAST-MODIFIED:20230915T052356Z
UID:26244-1694944800-1694948400@pumcfortmill.org
SUMMARY:Sunday School for Everyone
DESCRIPTION:Sunday school classes are available for all ages! There are 4 adult classes\, youth (6th-12th grade)\, age defined elementary classes\, preschool and nursery. Contact Nicolas Gold\, nicolas@pumcfortmill.org\, for more detailed descriptions and locations or stop by our welcome center in front of the Sanctuary.
URL:https://pumcfortmill.org/event/sunday-school-for-everyone-2/
LOCATION:Philadelphia United Methodist Church\, 1691 Hwy. 160 W\, Fort Mill\, SC\, 29708\, United States
CATEGORIES:Children's Event,Event,Life Group,Worship
ATTACH;FMTTYPE=image/gif:https://pumcfortmill.org/wp-content/uploads/2022/03/sunday-school-lg-widescreen-1030x579-1-e1648052978757.gif
ORGANIZER;CN="Nicolas Gold":MAILTO:nicolas@pumcfortmill.org
END:VEVENT
END:VCALENDAR