BEGIN:VCALENDAR
VERSION:2.0
PRODID:-//Philadelphia United Methodist Church - ECPv6.15.17.1//NONSGML v1.0//EN
CALSCALE:GREGORIAN
METHOD:PUBLISH
X-WR-CALNAME:Philadelphia United Methodist Church
X-ORIGINAL-URL:https://pumcfortmill.org
X-WR-CALDESC:Events for Philadelphia United Methodist Church
REFRESH-INTERVAL;VALUE=DURATION:PT1H
X-Robots-Tag:noindex
X-PUBLISHED-TTL:PT1H
BEGIN:VTIMEZONE
TZID:America/New_York
BEGIN:DAYLIGHT
TZOFFSETFROM:-0500
TZOFFSETTO:-0400
TZNAME:EDT
DTSTART:20240310T070000
END:DAYLIGHT
BEGIN:STANDARD
TZOFFSETFROM:-0400
TZOFFSETTO:-0500
TZNAME:EST
DTSTART:20241103T060000
END:STANDARD
BEGIN:DAYLIGHT
TZOFFSETFROM:-0500
TZOFFSETTO:-0400
TZNAME:EDT
DTSTART:20250309T070000
END:DAYLIGHT
BEGIN:STANDARD
TZOFFSETFROM:-0400
TZOFFSETTO:-0500
TZNAME:EST
DTSTART:20251102T060000
END:STANDARD
BEGIN:DAYLIGHT
TZOFFSETFROM:-0500
TZOFFSETTO:-0400
TZNAME:EDT
DTSTART:20260308T070000
END:DAYLIGHT
BEGIN:STANDARD
TZOFFSETFROM:-0400
TZOFFSETTO:-0500
TZNAME:EST
DTSTART:20261101T060000
END:STANDARD
END:VTIMEZONE
BEGIN:VEVENT
DTSTART;TZID=America/New_York:20250202T170000
DTEND;TZID=America/New_York:20250202T180000
DTSTAMP:20260421T110523
CREATED:20250106T172032Z
LAST-MODIFIED:20250106T175015Z
UID:70615-1738515600-1738519200@pumcfortmill.org
SUMMARY:CHILI COOK-OFF AND KIDS’ DESSERT BAKE-OFF
DESCRIPTION:Join us at Philadelphia UMC on Sunday\, February 2 at 5pm for our Chili Cook-Off. Everyone is welcome to bring their best chili for everybody to try. Children and youth are invited to participate in the Kids’ Dessert Bake-Off.  Everyone who attends can try a sample of each chili and dessert and vote for their favorites! Please register with your name\, email address\, and the name of your chili or dessert.  More details will be sent to you.  Questions?  Contact Nicolas@pumcfortmill.org.
URL:https://pumcfortmill.org/event/chili-cook-off-and-kids-dessert-bake-off/
CATEGORIES:Children's Event,Event,PUMC Guest Evemt,Youth
ATTACH;FMTTYPE=image/png:https://pumcfortmill.org/wp-content/uploads/2025/01/Screenshot-192.png
END:VEVENT
END:VCALENDAR