BEGIN:VCALENDAR
VERSION:2.0
PRODID:-//Philadelphia United Methodist Church - ECPv6.15.17.1//NONSGML v1.0//EN
CALSCALE:GREGORIAN
METHOD:PUBLISH
X-WR-CALNAME:Philadelphia United Methodist Church
X-ORIGINAL-URL:https://pumcfortmill.org
X-WR-CALDESC:Events for Philadelphia United Methodist Church
REFRESH-INTERVAL;VALUE=DURATION:PT1H
X-Robots-Tag:noindex
X-PUBLISHED-TTL:PT1H
BEGIN:VTIMEZONE
TZID:America/New_York
BEGIN:DAYLIGHT
TZOFFSETFROM:-0500
TZOFFSETTO:-0400
TZNAME:EDT
DTSTART:20230312T070000
END:DAYLIGHT
BEGIN:STANDARD
TZOFFSETFROM:-0400
TZOFFSETTO:-0500
TZNAME:EST
DTSTART:20231105T060000
END:STANDARD
BEGIN:DAYLIGHT
TZOFFSETFROM:-0500
TZOFFSETTO:-0400
TZNAME:EDT
DTSTART:20240310T070000
END:DAYLIGHT
BEGIN:STANDARD
TZOFFSETFROM:-0400
TZOFFSETTO:-0500
TZNAME:EST
DTSTART:20241103T060000
END:STANDARD
BEGIN:DAYLIGHT
TZOFFSETFROM:-0500
TZOFFSETTO:-0400
TZNAME:EDT
DTSTART:20250309T070000
END:DAYLIGHT
BEGIN:STANDARD
TZOFFSETFROM:-0400
TZOFFSETTO:-0500
TZNAME:EST
DTSTART:20251102T060000
END:STANDARD
END:VTIMEZONE
BEGIN:VEVENT
DTSTART;TZID=America/New_York:20241010T042500
DTEND;TZID=America/New_York:20241010T073000
DTSTAMP:20260423T161900
CREATED:20240930T192212Z
LAST-MODIFIED:20240930T192214Z
UID:60851-1728534300-1728545400@pumcfortmill.org
SUMMARY:Bethel Men's Shelter Meal
DESCRIPTION:Thursday\, October the 10th\, is another opportunity to serve a meal at Bethel Men’s Shelter. We are expecting around 65 men who will be hungry for a home cooked meal of pintos\, vegetable soup\, salad\, cornbread and brownies. Join us by preparing food\, purchasing needed items\, helping serve the meal or working in the kitchen behind the scenes. We are also collecting breakfast bars (the soft kind like Nutra-Grain)\, fruit cups\, bottled water\, used small devotionals and restuarant utensil packages for breakfast bags. Please follow the link to sign up! \n\n\n\nLink: https://www.signupgenius.com/go/70A084AAAA62FA20-51825237-bethel
URL:https://pumcfortmill.org/event/bethel-mens-shelter-meal/
ATTACH;FMTTYPE=image/png:https://pumcfortmill.org/wp-content/uploads/2024/09/Bethel-Mens-Night-1.png
END:VEVENT
END:VCALENDAR