BEGIN:VCALENDAR
VERSION:2.0
PRODID:-//Philadelphia United Methodist Church - ECPv6.15.17.1//NONSGML v1.0//EN
CALSCALE:GREGORIAN
METHOD:PUBLISH
X-WR-CALNAME:Philadelphia United Methodist Church
X-ORIGINAL-URL:https://pumcfortmill.org
X-WR-CALDESC:Events for Philadelphia United Methodist Church
REFRESH-INTERVAL;VALUE=DURATION:PT1H
X-Robots-Tag:noindex
X-PUBLISHED-TTL:PT1H
BEGIN:VTIMEZONE
TZID:America/New_York
BEGIN:DAYLIGHT
TZOFFSETFROM:-0500
TZOFFSETTO:-0400
TZNAME:EDT
DTSTART:20230312T070000
END:DAYLIGHT
BEGIN:STANDARD
TZOFFSETFROM:-0400
TZOFFSETTO:-0500
TZNAME:EST
DTSTART:20231105T060000
END:STANDARD
BEGIN:DAYLIGHT
TZOFFSETFROM:-0500
TZOFFSETTO:-0400
TZNAME:EDT
DTSTART:20240310T070000
END:DAYLIGHT
BEGIN:STANDARD
TZOFFSETFROM:-0400
TZOFFSETTO:-0500
TZNAME:EST
DTSTART:20241103T060000
END:STANDARD
BEGIN:DAYLIGHT
TZOFFSETFROM:-0500
TZOFFSETTO:-0400
TZNAME:EDT
DTSTART:20250309T070000
END:DAYLIGHT
BEGIN:STANDARD
TZOFFSETFROM:-0400
TZOFFSETTO:-0500
TZNAME:EST
DTSTART:20251102T060000
END:STANDARD
END:VTIMEZONE
BEGIN:VEVENT
DTSTART;TZID=America/New_York:20240921T073000
DTEND;TZID=America/New_York:20240921T083000
DTSTAMP:20260425T235813
CREATED:20240910T025126Z
LAST-MODIFIED:20240910T025127Z
UID:58788-1726903800-1726907400@pumcfortmill.org
SUMMARY:Men In The Mirror
DESCRIPTION:As iron sharpens iron\, so one man sharpens another.” -Proverbs 27:17. All men are invited to join us every 3rd Saturday morning for biscuits\, coffee\, fellowship\, and biblical discussion.
URL:https://pumcfortmill.org/event/men-in-the-mirror/
LOCATION:PUMC Fellowship Hall\, 1691 Hwy. 160 W\, Fort Mill\, 29708\, United States
CATEGORIES:Bible Study,Evangelism,Life Group,Meetings,UMM
ATTACH;FMTTYPE=image/jpeg:https://pumcfortmill.org/wp-content/uploads/2022/03/Men-in-the-Mirror-Logo.jpg
END:VEVENT
END:VCALENDAR