BEGIN:VCALENDAR
VERSION:2.0
PRODID:-//Philadelphia United Methodist Church - ECPv6.15.17.1//NONSGML v1.0//EN
CALSCALE:GREGORIAN
METHOD:PUBLISH
X-ORIGINAL-URL:https://pumcfortmill.org
X-WR-CALDESC:Events for Philadelphia United Methodist Church
REFRESH-INTERVAL;VALUE=DURATION:PT1H
X-Robots-Tag:noindex
X-PUBLISHED-TTL:PT1H
BEGIN:VTIMEZONE
TZID:America/New_York
BEGIN:DAYLIGHT
TZOFFSETFROM:-0500
TZOFFSETTO:-0400
TZNAME:EDT
DTSTART:20230312T070000
END:DAYLIGHT
BEGIN:STANDARD
TZOFFSETFROM:-0400
TZOFFSETTO:-0500
TZNAME:EST
DTSTART:20231105T060000
END:STANDARD
BEGIN:DAYLIGHT
TZOFFSETFROM:-0500
TZOFFSETTO:-0400
TZNAME:EDT
DTSTART:20240310T070000
END:DAYLIGHT
BEGIN:STANDARD
TZOFFSETFROM:-0400
TZOFFSETTO:-0500
TZNAME:EST
DTSTART:20241103T060000
END:STANDARD
BEGIN:DAYLIGHT
TZOFFSETFROM:-0500
TZOFFSETTO:-0400
TZNAME:EDT
DTSTART:20250309T070000
END:DAYLIGHT
BEGIN:STANDARD
TZOFFSETFROM:-0400
TZOFFSETTO:-0500
TZNAME:EST
DTSTART:20251102T060000
END:STANDARD
END:VTIMEZONE
BEGIN:VEVENT
DTSTART;TZID=America/New_York:20240910T113000
DTEND;TZID=America/New_York:20240910T123000
DTSTAMP:20260425T143526
CREATED:20240724T151333Z
LAST-MODIFIED:20240724T151334Z
UID:53853-1725967800-1725971400@pumcfortmill.org
SUMMARY:Senior Friends
DESCRIPTION:Our regular meeting in the Fellowship Hall. Please bring a covered dish.
URL:https://pumcfortmill.org/event/senior-friends-4/
CATEGORIES:Event,Meetings
END:VEVENT
BEGIN:VEVENT
DTSTART;TZID=America/New_York:20240910T181500
DTEND;TZID=America/New_York:20240910T190000
DTSTAMP:20260425T143526
CREATED:20240806T151843Z
LAST-MODIFIED:20240826T203843Z
UID:55234-1725992100-1725994800@pumcfortmill.org
SUMMARY:Ephesians Bible Study - Tuesday
DESCRIPTION:The book of Ephesians is the universal letter of Paul. It is his standard speech about the gospel story and how we should live out our story because of the gospel. We will offer TWO separate\, six-week classes on the book of Ephesians\, using the N.T. Wright For Everyone Bible Study Guide on Ephesians. You can purchase the guide from the church for $8 or find your copy online. One Bible Study starts Tuesday\, September 10th from 6:15-7:00pm and the other starts Wednesday\, September 11th from 6:15-7:00pm. Contact Nicolas@pumcfortmill.org to participate.
URL:https://pumcfortmill.org/event/ephesians-bible-study-tuesday/
CATEGORIES:Bible Study,Life Group
ATTACH;FMTTYPE=image/png:https://pumcfortmill.org/wp-content/uploads/2024/08/Add-your-text.png
END:VEVENT
END:VCALENDAR